Workbook
Name _1: '【個人】2回目＞計算用シート'!$M$32
Name _1: '【個人】3回目＞計算用シート'!$M$32
Name _1: '【個人】4回目＞計算用シート'!$M$32
Name _1: '【個人】5回目＞計算用シート'!$M$32
Name _1: '【個人】6回目＞計算用シート'!$M$32
Name _1: '【個人】1回目＞計算用シート'!$M$32
Name _2: '【個人】2回目＞計算用シート'!$M$33
Name _2: '【個人】3回目＞計算用シート'!$M$33
Name _2: '【個人】4回目＞計算用シート'!$M$33
Name _2: '【個人】5回目＞計算用シート'!$M$33
Name _2: '【個人】6回目＞計算用シート'!$M$33
Name _2: '【個人】1回目＞計算用シート'!$M$33
Name _3: '【個人】2回目＞計算用シート'!$M$34
Name _3: '【個人】3回目＞計算用シート'!$M$34
Name _3: '【個人】4回目＞計算用シート'!$M$34
Name _3: '【個人】5回目＞計算用シート'!$M$34
Name _3: '【個人】6回目＞計算用シート'!$M$34
Name _3: '【個人】1回目＞計算用シート'!$M$34
Name _4: '【個人】2回目＞計算用シート'!$M$35
Name _4: '【個人】3回目＞計算用シート'!$M$35
Name _4: '【個人】4回目＞計算用シート'!$M$35
Name _4: '【個人】5回目＞計算用シート'!$M$35
Name _4: '【個人】6回目＞計算用シート'!$M$35
Name _4: '【個人】1回目＞計算用シート'!$M$35
Name _5: '【個人】2回目＞計算用シート'!$M$36
Name _5: '【個人】3回目＞計算用シート'!$M$36
Name _5: '【個人】4回目＞計算用シート'!$M$36
Name _5: '【個人】5回目＞計算用シート'!$M$36
Name _5: '【個人】6回目＞計算用シート'!$M$36
Name _5: '【個人】1回目＞計算用シート'!$M$36
Name _6: '【個人】2回目＞計算用シート'!$M$37
Name _6: '【個人】3回目＞計算用シート'!$M$37
Name _6: '【個人】4回目＞計算用シート'!$M$37
Name _6: '【個人】5回目＞計算用シート'!$M$37
Name _6: '【個人】6回目＞計算用シート'!$M$37
Name _6: '【個人】1回目＞計算用シート'!$M$37
Name _7次: '【個人】2回目＞計算用シート'!$M$22:$M$23
Name _7次: '【個人】3回目＞計算用シート'!$M$22:$M$23
Name _7次: '【個人】4回目＞計算用シート'!$M$22:$M$23
Name _7次: '【個人】5回目＞計算用シート'!$M$22:$M$23
Name _7次: '【個人】6回目＞計算用シート'!$M$22:$M$23
Name _7次: '【個人】1回目＞計算用シート'!$M$22:$M$23
Name _8_9次: '【個人】2回目＞計算用シート'!$M$24:$M$25
Name _8_9次: '【個人】3回目＞計算用シート'!$M$24:$M$25
Name _8_9次: '【個人】4回目＞計算用シート'!$M$24:$M$25
Name _8_9次: '【個人】5回目＞計算用シート'!$M$24:$M$25
Name _8_9次: '【個人】6回目＞計算用シート'!$M$24:$M$25
Name _8_9次: '【個人】1回目＞計算用シート'!$M$24:$M$25

Sheet 事業化状況報告時期計算シート
B2: 事業化状況報告時期の確認シート
B4: ※本ファイル「事業化状況報告時期の確認シート」は、事業化状況報告の提出タイミングを
B5: 確認するための計算シートです。
B7: ◆計算ツール
B8: 補助金の振込完了年月(交付年月)と該当する決算月を以下の薄黄色セルで選択してください。
B10: ・振込完了年月が | E10: 年 | G10: 月 | H10: である。
B12: ・決算月が | F12: 12 | G12: 月 | H12: である。
B15: ◆計算結果
B16: 事業化状況報告時期は以下の通りです。
B17: 上部の薄黄色セルで選択された年月をもとに、以下の薄青色セルに自動で反映されます。
B19: ・1回目の報告時期： | D19: =IF(OR(D10="",F10="",F12=""),"",IF(OR(F12<F10,AND(F12>F10,F12=12),AND(F10=F12, F12=12)),D10+1,D10)) | E19: 年 | F19: =IF(F12="", "", IF(F12=12, 1, F12+1)) -> 1 | G19: 月 | H19: =IF(AND(D19<>"", F19<>""), 1, "") | I19: 日 | J19: から90日以内
B21: ・2回目の報告時期： | D21: =IF(D19="","",D19+1) | E21: 年 | F21: =F19 -> 1 | G21: 月 | H21: =H19 | I21: 日 | J21: から90日以内
B23: ・3回目の報告時期： | D23: =IF(D19="","",D19+2) | E23: 年 | F23: =F19 -> 1 | G23: 月 | H23: =H19 | I23: 日 | J23: から90日以内
B25: ・4回目の報告時期： | D25: =IF(D19="","",D19+3) | E25: 年 | F25: =F19 -> 1 | G25: 月 | H25: =H19 | I25: 日 | J25: から90日以内
B27: ・5回目の報告時期： | D27: =IF(D19="","",D19+4) | E27: 年 | F27: =F19 -> 1 | G27: 月 | H27: =H19 | I27: 日 | J27: から90日以内
B29: ・6回目の報告時期： | D29: =IF(D19="","",D19+5) | E29: 年 | F29: =F19 -> 1 | G29: 月 | H29: =H19 | I29: 日 | J29: から90日以内

Sheet 【個人】1回目＞計算用シート
A1: 【PMI推進枠(事業統合投資類型)｜個人事業主用】(12次公募) 事業化状況報告用 計算シート v1.0 | H1: =+IF(COUNTIF(J2:J6,"未入力あり")>0,"※未入力の項目があります","") -> ※未入力の項目があります
B2: ＜記載に際しての注意事項＞ | H2: =B9 -> Ⅰ.事業者情報と報告概要 | J2: =J9 -> 未入力あり
B3: ・本計算シートは必ずJグランツの専用フォーム「様式第12.事業化状況報告」より提出してください。 | H3: =B21 -> Ⅱ.年度事業化及び収益状況の概要 | J3: =J21 -> 未入力あり
B4: ・本計算シートに関連する各種証憑はHP掲載の『事業化状況報告マニュアル』の内容に従って提出してください。 | H4: =B50 -> Ⅲ.生産性向上に関する報告 | J4: =J50 -> 未入力あり
B5: ・本シートにおける「前事業年度」とは、報告対象となる年度の前年度を指します。 | H5: =B110 -> Ⅳ.賃金引上げに関する報告 | J5: =J110 -> 未入力あり
B6: ・薄黄色セルの数値の入力部分については、該当がない部分も必ず「0」を入力してください。
B7: ・入力ヒントをセル内のメモにて記載している項目がございますので、適宜ご確認の上、入力してください。
B8: ・「(※)」が記載されている箇所については、赤枠の黄色ワッペンにて補足がございますので、ご確認上ご記入ください。
B9: Ⅰ.事業者情報と報告概要 | J9: =IF(COUNTBLANK(C12:C19)>0,"未入力あり","入力完了") -> 未入力あり
B10: 事業者情報
B11: ・交付決定通知書、補助金の交付額確定通知書等を参照し、正確に情報を入力してください。
B12: 補助事業者名 | E12: 交付決定通知書等に記載のある補助事業者名を入力してください。
B13: 交付申請番号 | D13: 交付決定通知書等に記載のある交付申請番号（大文字の英字と数字の組み合わせ）を入力してください。
B14: 補助金の交付日 | D14: 補助金の交付日(=補助事業完了日)を入力してください。（202X年X月X日）
B15: 期首年月日 | D15: 今回の報告対象となる事業年度の期首年月日を記入してください。（202X年X月X日）
B16: 期末年月日 | D16: 今回の報告対象となる事業年度の期末年月日を記入してください。（202X年X月X日）
B17: 公募申請日を含む事業年度の期末年月日 | D17: 公募申請日を含む事業年度の期末年月日を記入してください。（202X年X月X日）※上記「期末年月日」と同様の場合も入力が必要です。
B18: 補助上限額引き上げに伴う賃上げ申請 | D18: 賃上げ要件の充足による補助上限額引き上げを申請している事業者は「該当あり」を選択してください。 | L18: 賃上げ | M18: 該当あり
B19: 加点に伴う賃上げ申請 | D19: 賃上げ要件の充足による加点を申請している事業者は「該当あり」を選択してください。 | M19: 該当なし
B21: Ⅱ.年度事業化及び収益状況の概要 | J21: =IF(COUNTBLANK(C29:D38)+COUNTBLANK(C41:D41)>0,"未入力あり","入力完了") -> 未入力あり
B22: 区分経理_損益計算書（全体／補助事業）
B23: ・決算報告書の損益計算書および貸借対照表を参照し、黄色セルに数字を入力してください。
B24: ・全体の金額を「損益計算書の金額」欄に、補助事業に限定した金額を「補助事業分」欄に、それぞれ入力してください。
B25: ・全体＝補助事業の場合や補助対象事業の切り分けが困難な場合は、「補助事業分」欄にも全体と同じ金額を入力してください。
B26: （単位：円） ※青字数字は、所得税青色申告決算書上の項目番号を示しています | C26: 申告決算書金額 （全体） | D26: 事業別の損益
D27: 補助事業分 | E27: 補助事業以外の事業／部門分（任意入力）
E28: 事業名 | G28: 事業名
B29: 売上高 ①
B30: 差引原価（売上原価） ⑥
B31: 差引金額（売上総利益） ⑦ | C31: =C29-C30 -> 0 | D31: =D29-D30 -> 0 | E31: =E29-E30 -> 0 | G31: =G29-G30 -> 0
B32: 経費 計（経費合計額） ㉜
B33: 差引金額 ㉝ | C33: =C31-C32 -> 0 | D33: =D31-D32 -> 0 | E33: =E31-E32 -> 0 | G33: =G31-G32 -> 0
B34: 繰戻額等 計 ㊲
B35: 繰入額等 計 ㊷
B36: 青色申告特別控除前の所得金額 ㊸ | C36: =C33+C34-C35 -> 0 | D36: =D33+D34-D35 -> 0 | E36: =E33+E34-E35 -> 0 | G36: =G33+G34-G35 -> 0
B37: 青色申告特別控除 ㊹
B38: 所得金額 ㊺ | C38: =C36-C37 -> 0 | D38: =D36-D37 -> 0 | E38: =E36-E37 -> 0 | G38: =G36-G37 -> 0
C40: 全体 | D40: 補助事業分 | E40: 補助事業以外の従事者
B41: 従業員数(名) | E41: =C41-D41 -> 0
B43: 2.事業化状況
...

Sheet 【個人】2回目＞計算用シート
A1: 【PMI推進枠(事業統合投資類型)｜個人事業主用】(12次公募) 事業化状況報告用 計算シート v1.0 | H1: =+IF(COUNTIF(J2:J6,"未入力あり")>0,"※未入力の項目があります","") -> ※未入力の項目があります
B2: ＜記載に際しての注意事項＞ | H2: =B9 -> Ⅰ.事業者情報と報告概要 | J2: =J9 -> 未入力あり
B3: ・本計算シートは必ずJグランツの専用フォーム「様式第12.事業化状況報告」より提出してください。 | H3: =B21 -> Ⅱ.年度事業化及び収益状況の概要 | J3: =J21 -> 未入力あり
B4: ・本計算シートに関連する各種証憑はHP掲載の『事業化状況報告マニュアル』の内容に従って提出してください。 | H4: =B50 -> Ⅲ.生産性向上に関する報告 | J4: =J50 -> 未入力あり
B5: ・本シートにおける「前事業年度」とは、報告対象となる年度の前年度を指します。 | H5: =B110 -> Ⅳ.賃金引上げに関する報告 | J5: =J110 -> 未入力あり
B6: ・薄黄色セルの数値の入力部分については、該当がない部分も必ず「0」を入力してください。
B7: ・入力ヒントをセル内のメモにて記載している項目がございますので、適宜ご確認の上、入力してください。
B8: ・「(※)」が記載されている箇所については、赤枠の黄色ワッペンにて補足がございますので、ご確認上ご記入ください。
B9: Ⅰ.事業者情報と報告概要 | J9: =IF(COUNTBLANK(C12:C19)>0,"未入力あり","入力完了") -> 未入力あり
B10: 事業者情報
B11: ・交付決定通知書、補助金の交付額確定通知書等を参照し、正確に情報を入力してください。
B12: 補助事業者名 | C12: ='【個人】1回目＞計算用シート'!C12 -> 0 | E12: 交付決定通知書等に記載のある補助事業者名を入力してください。
B13: 交付申請番号 | C13: ='【個人】1回目＞計算用シート'!C13 -> 0 | D13: 交付決定通知書等に記載のある交付申請番号（大文字の英字と数字の組み合わせ）を入力してください。
B14: 補助金の交付日 | C14: ='【個人】1回目＞計算用シート'!C14 -> 0 | D14: 補助金の交付日(=補助事業完了日)を入力してください。（202X年X月X日）
B15: 期首年月日 | D15: 今回の報告対象となる事業年度の期首年月日を記入してください。（202X年X月X日）
B16: 期末年月日 | D16: 今回の報告対象となる事業年度の期末年月日を記入してください。（202X年X月X日）
B17: 公募申請日を含む事業年度の期末年月日 | C17: ='【個人】1回目＞計算用シート'!C17 -> 0 | D17: 公募申請日を含む事業年度の期末年月日を記入してください。（202X年X月X日）
B18: 補助上限額引き上げに伴う賃上げ申請 | C18: ='【個人】1回目＞計算用シート'!C18 -> 0 | D18: 賃上げ要件の充足による補助上限額引き上げを申請している事業者は「該当あり」を選択してください。 | L18: 賃上げ | M18: 該当あり
B19: 加点に伴う賃上げ申請 | C19: ='【個人】1回目＞計算用シート'!C19 -> 0 | D19: 賃上げ要件の充足による加点を申請している事業者は「該当あり」を選択してください。 | M19: 該当なし
B21: Ⅱ.年度事業化及び収益状況の概要 | J21: =IF(COUNTBLANK(C29:D38)+COUNTBLANK(C41:D41)>0,"未入力あり","入力完了") -> 未入力あり
B22: 区分経理_損益計算書（全体／補助事業）
B23: ・決算報告書の損益計算書および貸借対照表を参照し、黄色セルに数字を入力してください。
B24: ・全体の金額を「損益計算書の金額」欄に、補助事業に限定した金額を「補助事業分」欄に、それぞれ入力してください。
B25: ・全体＝補助事業の場合や補助対象事業の切り分けが困難な場合は、「補助事業分」欄にも全体と同じ金額を入力してください。
B26: （単位：円） ※青字数字は、所得税青色申告決算書上の項目番号を示しています | C26: 申告決算書金額 （全体） | D26: 事業別の損益
D27: 補助事業分 | E27: 補助事業以外の事業／部門分（任意入力）
E28: 事業名 | G28: 事業名
B29: 売上高 ①
B30: 差引原価（売上原価） ⑥
B31: 差引金額（売上総利益） ⑦ | C31: =C29-C30 -> 0 | D31: =D29-D30 -> 0 | E31: =E29-E30 -> 0 | G31: =G29-G30 -> 0
B32: 経費 計（経費合計額） ㉜
B33: 差引金額 ㉝ | C33: =C31-C32 -> 0 | D33: =D31-D32 -> 0 | E33: =E31-E32 -> 0 | G33: =G31-G32 -> 0
B34: 繰戻額等 計 ㊲
B35: 繰入額等 計 ㊷
B36: 青色申告特別控除前の所得金額 ㊸ | C36: =C33+C34-C35 -> 0 | D36: =D33+D34-D35 -> 0 | E36: =E33+E34-E35 -> 0 | G36: =G33+G34-G35 -> 0
B37: 青色申告特別控除 ㊹
B38: 所得金額 ㊺ | C38: =C36-C37 -> 0 | D38: =D36-D37 -> 0 | E38: =E36-E37 -> 0 | G38: =G36-G37 -> 0
C40: 全体 | D40: 補助事業分 | E40: 補助事業以外の従事者
B41: 従業員数(名) | E41: =C41-D41 -> 0
B43: 2.事業化状況
...

Sheet 【個人】3回目＞計算用シート
A1: 【PMI推進枠(事業統合投資類型)｜個人事業主用】(12次公募) 事業化状況報告用 計算シート v1.0 | H1: =+IF(COUNTIF(J2:J6,"未入力あり")>0,"※未入力の項目があります","") -> ※未入力の項目があります
B2: ＜記載に際しての注意事項＞ | H2: =B9 -> Ⅰ.事業者情報と報告概要 | J2: =J9 -> 未入力あり
B3: ・本計算シートは必ずJグランツの専用フォーム「様式第12.事業化状況報告」より提出してください。 | H3: =B21 -> Ⅱ.年度事業化及び収益状況の概要 | J3: =J21 -> 未入力あり
B4: ・本計算シートに関連する各種証憑はHP掲載の『事業化状況報告マニュアル』の内容に従って提出してください。 | H4: =B50 -> Ⅲ.生産性向上に関する報告 | J4: =J50 -> 未入力あり
B5: ・本シートにおける「前事業年度」とは、報告対象となる年度の前年度を指します。 | H5: =B110 -> Ⅳ.賃金引上げに関する報告 | J5: =J110 -> 未入力あり
B6: ・薄黄色セルの数値の入力部分については、該当がない部分も必ず「0」を入力してください。
B7: ・入力ヒントをセル内のメモにて記載している項目がございますので、適宜ご確認の上、入力してください。
B8: ・「(※)」が記載されている箇所については、赤枠の黄色ワッペンにて補足がございますので、ご確認上ご記入ください。
B9: Ⅰ.事業者情報と報告概要 | J9: =IF(COUNTBLANK(C12:C19)>0,"未入力あり","入力完了") -> 未入力あり
B10: 事業者情報
B11: ・交付決定通知書、補助金の交付額確定通知書等を参照し、正確に情報を入力してください。
B12: 補助事業者名 | C12: ='【個人】1回目＞計算用シート'!C12 -> 0 | E12: 交付決定通知書等に記載のある補助事業者名を入力してください。
B13: 交付申請番号 | C13: ='【個人】1回目＞計算用シート'!C13 -> 0 | D13: 交付決定通知書等に記載のある交付申請番号（大文字の英字と数字の組み合わせ）を入力してください。
B14: 補助金の交付日 | C14: ='【個人】1回目＞計算用シート'!C14 -> 0 | D14: 補助金の交付日(=補助事業完了日)を入力してください。（202X年X月X日）
B15: 期首年月日 | D15: 今回の報告対象となる事業年度の期首年月日を記入してください。（202X年X月X日）
B16: 期末年月日 | D16: 今回の報告対象となる事業年度の期末年月日を記入してください。（202X年X月X日）
B17: 公募申請日を含む事業年度の期末年月日 | C17: ='【個人】1回目＞計算用シート'!C17 -> 0 | D17: 公募申請日を含む事業年度の期末年月日を記入してください。（202X年X月X日）
B18: 補助上限額引き上げに伴う賃上げ申請 | C18: ='【個人】1回目＞計算用シート'!C18 -> 0 | D18: 賃上げ要件の充足による補助上限額引き上げを申請している事業者は「該当あり」を選択してください。 | L18: 賃上げ | M18: 該当あり
B19: 加点に伴う賃上げ申請 | C19: ='【個人】1回目＞計算用シート'!C19 -> 0 | D19: 賃上げ要件の充足による加点を申請している事業者は「該当あり」を選択してください。 | M19: 該当なし
B21: Ⅱ.年度事業化及び収益状況の概要 | J21: =IF(COUNTBLANK(C29:D38)+COUNTBLANK(C41:D41)>0,"未入力あり","入力完了") -> 未入力あり
B22: 区分経理_損益計算書（全体／補助事業）
B23: ・決算報告書の損益計算書および貸借対照表を参照し、黄色セルに数字を入力してください。
B24: ・全体の金額を「損益計算書の金額」欄に、補助事業に限定した金額を「補助事業分」欄に、それぞれ入力してください。
B25: ・全体＝補助事業の場合や補助対象事業の切り分けが困難な場合は、「補助事業分」欄にも全体と同じ金額を入力してください。
B26: （単位：円） ※青字数字は、所得税青色申告決算書上の項目番号を示しています | C26: 申告決算書金額 （全体） | D26: 事業別の損益
D27: 補助事業分 | E27: 補助事業以外の事業／部門分（任意入力）
E28: 事業名 | G28: 事業名
B29: 売上高 ①
B30: 差引原価（売上原価） ⑥
B31: 差引金額（売上総利益） ⑦ | C31: =C29-C30 -> 0 | D31: =D29-D30 -> 0 | E31: =E29-E30 -> 0 | G31: =G29-G30 -> 0
B32: 経費 計（経費合計額） ㉜
B33: 差引金額 ㉝ | C33: =C31-C32 -> 0 | D33: =D31-D32 -> 0 | E33: =E31-E32 -> 0 | G33: =G31-G32 -> 0
B34: 繰戻額等 計 ㊲
B35: 繰入額等 計 ㊷
B36: 青色申告特別控除前の所得金額 ㊸ | C36: =C33+C34-C35 -> 0 | D36: =D33+D34-D35 -> 0 | E36: =E33+E34-E35 -> 0 | G36: =G33+G34-G35 -> 0
B37: 青色申告特別控除 ㊹
B38: 所得金額 ㊺ | C38: =C36-C37 -> 0 | D38: =D36-D37 -> 0 | E38: =E36-E37 -> 0 | G38: =G36-G37 -> 0
C40: 全体 | D40: 補助事業分 | E40: 補助事業以外の従事者
B41: 従業員数(名) | E41: =C41-D41 -> 0
B43: 2.事業化状況
...

Sheet 【個人】4回目＞計算用シート
A1: 【PMI推進枠(事業統合投資類型)｜個人事業主用】(12次公募) 事業化状況報告用 計算シート v1.0 | H1: =+IF(COUNTIF(J2:J6,"未入力あり")>0,"※未入力の項目があります","") -> ※未入力の項目があります
B2: ＜記載に際しての注意事項＞ | H2: =B9 -> Ⅰ.事業者情報と報告概要 | J2: =J9 -> 未入力あり
B3: ・本計算シートは必ずJグランツの専用フォーム「様式第12.事業化状況報告」より提出してください。 | H3: =B21 -> Ⅱ.年度事業化及び収益状況の概要 | J3: =J21 -> 未入力あり
B4: ・本計算シートに関連する各種証憑はHP掲載の『事業化状況報告マニュアル』の内容に従って提出してください。 | H4: =B50 -> Ⅲ.生産性向上に関する報告 | J4: =J50 -> 未入力あり
B5: ・本シートにおける「前事業年度」とは、報告対象となる年度の前年度を指します。 | H5: =B110 -> Ⅳ.賃金引上げに関する報告 | J5: =J110 -> 未入力あり
B6: ・薄黄色セルの数値の入力部分については、該当がない部分も必ず「0」を入力してください。
B7: ・入力ヒントをセル内のメモにて記載している項目がございますので、適宜ご確認の上、入力してください。
B8: ・「(※)」が記載されている箇所については、赤枠の黄色ワッペンにて補足がございますので、ご確認上ご記入ください。
B9: Ⅰ.事業者情報と報告概要 | J9: =IF(COUNTBLANK(C12:C19)>0,"未入力あり","入力完了") -> 未入力あり
B10: 事業者情報
B11: ・交付決定通知書、補助金の交付額確定通知書等を参照し、正確に情報を入力してください。
B12: 補助事業者名 | C12: ='【個人】1回目＞計算用シート'!C12 -> 0 | E12: 交付決定通知書等に記載のある補助事業者名を入力してください。
B13: 交付申請番号 | C13: ='【個人】1回目＞計算用シート'!C13 -> 0 | D13: 交付決定通知書等に記載のある交付申請番号（大文字の英字と数字の組み合わせ）を入力してください。
B14: 補助金の交付日 | C14: ='【個人】1回目＞計算用シート'!C14 -> 0 | D14: 補助金の交付日(=補助事業完了日)を入力してください。（202X年X月X日）
B15: 期首年月日 | D15: 今回の報告対象となる事業年度の期首年月日を記入してください。（202X年X月X日）
B16: 期末年月日 | D16: 今回の報告対象となる事業年度の期末年月日を記入してください。（202X年X月X日）
B17: 公募申請日を含む事業年度の期末年月日 | C17: ='【個人】1回目＞計算用シート'!C17 -> 0 | D17: 公募申請日を含む事業年度の期末年月日を記入してください。（202X年X月X日）
B18: 補助上限額引き上げに伴う賃上げ申請 | C18: ='【個人】1回目＞計算用シート'!C18 -> 0 | D18: 賃上げ要件の充足による補助上限額引き上げを申請している事業者は「該当あり」を選択してください。 | L18: 賃上げ | M18: 該当あり
B19: 加点に伴う賃上げ申請 | C19: ='【個人】1回目＞計算用シート'!C19 -> 0 | D19: 賃上げ要件の充足による加点を申請している事業者は「該当あり」を選択してください。 | M19: 該当なし
B21: Ⅱ.年度事業化及び収益状況の概要 | J21: =IF(COUNTBLANK(C29:D38)+COUNTBLANK(C41:D41)>0,"未入力あり","入力完了") -> 未入力あり
B22: 区分経理_損益計算書（全体／補助事業）
B23: ・決算報告書の損益計算書および貸借対照表を参照し、黄色セルに数字を入力してください。
B24: ・全体の金額を「損益計算書の金額」欄に、補助事業に限定した金額を「補助事業分」欄に、それぞれ入力してください。
B25: ・全体＝補助事業の場合や補助対象事業の切り分けが困難な場合は、「補助事業分」欄にも全体と同じ金額を入力してください。
B26: （単位：円） ※青字数字は、所得税青色申告決算書上の項目番号を示しています | C26: 申告決算書金額 （全体） | D26: 事業別の損益
D27: 補助事業分 | E27: 補助事業以外の事業／部門分（任意入力）
E28: 事業名 | G28: 事業名
B29: 売上高 ①
B30: 差引原価（売上原価） ⑥
B31: 差引金額（売上総利益） ⑦ | C31: =C29-C30 -> 0 | D31: =D29-D30 -> 0 | E31: =E29-E30 -> 0 | G31: =G29-G30 -> 0
B32: 経費 計（経費合計額） ㉜
B33: 差引金額 ㉝ | C33: =C31-C32 -> 0 | D33: =D31-D32 -> 0 | E33: =E31-E32 -> 0 | G33: =G31-G32 -> 0
B34: 繰戻額等 計 ㊲
B35: 繰入額等 計 ㊷
B36: 青色申告特別控除前の所得金額 ㊸ | C36: =C33+C34-C35 -> 0 | D36: =D33+D34-D35 -> 0 | E36: =E33+E34-E35 -> 0 | G36: =G33+G34-G35 -> 0
B37: 青色申告特別控除 ㊹
B38: 所得金額 ㊺ | C38: =C36-C37 -> 0 | D38: =D36-D37 -> 0 | E38: =E36-E37 -> 0 | G38: =G36-G37 -> 0
C40: 全体 | D40: 補助事業分 | E40: 補助事業以外の従事者
B41: 従業員数(名) | E41: =C41-D41 -> 0
B43: 2.事業化状況
...

Sheet 【個人】5回目＞計算用シート
A1: 【PMI推進枠(事業統合投資類型)｜個人事業主用】(12次公募) 事業化状況報告用 計算シート v1.0 | H1: =+IF(COUNTIF(J2:J6,"未入力あり")>0,"※未入力の項目があります","") -> ※未入力の項目があります
B2: ＜記載に際しての注意事項＞ | H2: =B9 -> Ⅰ.事業者情報と報告概要 | J2: =J9 -> 未入力あり
B3: ・本計算シートは必ずJグランツの専用フォーム「様式第12.事業化状況報告」より提出してください。 | H3: =B21 -> Ⅱ.年度事業化及び収益状況の概要 | J3: =J21 -> 未入力あり
B4: ・本計算シートに関連する各種証憑はHP掲載の『事業化状況報告マニュアル』の内容に従って提出してください。 | H4: =B50 -> Ⅲ.生産性向上に関する報告 | J4: =J50 -> 未入力あり
B5: ・本シートにおける「前事業年度」とは、報告対象となる年度の前年度を指します。 | H5: =B110 -> Ⅳ.賃金引上げに関する報告 | J5: =J110 -> 未入力あり
B6: ・薄黄色セルの数値の入力部分については、該当がない部分も必ず「0」を入力してください。
B7: ・入力ヒントをセル内のメモにて記載している項目がございますので、適宜ご確認の上、入力してください。
B8: ・「(※)」が記載されている箇所については、赤枠の黄色ワッペンにて補足がございますので、ご確認上ご記入ください。
B9: Ⅰ.事業者情報と報告概要 | J9: =IF(COUNTBLANK(C12:C19)>0,"未入力あり","入力完了") -> 未入力あり
B10: 事業者情報
B11: ・交付決定通知書、補助金の交付額確定通知書等を参照し、正確に情報を入力してください。
B12: 補助事業者名 | C12: ='【個人】1回目＞計算用シート'!C12 -> 0 | E12: 交付決定通知書等に記載のある補助事業者名を入力してください。
B13: 交付申請番号 | C13: ='【個人】1回目＞計算用シート'!C13 -> 0 | D13: 交付決定通知書等に記載のある交付申請番号（大文字の英字と数字の組み合わせ）を入力してください。
B14: 補助金の交付日 | C14: ='【個人】1回目＞計算用シート'!C14 -> 0 | D14: 補助金の交付日(=補助事業完了日)を入力してください。（202X年X月X日）
B15: 期首年月日 | D15: 今回の報告対象となる事業年度の期首年月日を記入してください。（202X年X月X日）
B16: 期末年月日 | D16: 今回の報告対象となる事業年度の期末年月日を記入してください。（202X年X月X日）
B17: 公募申請日を含む事業年度の期末年月日 | C17: ='【個人】1回目＞計算用シート'!C17 -> 0 | D17: 公募申請日を含む事業年度の期末年月日を記入してください。（202X年X月X日）
B18: 補助上限額引き上げに伴う賃上げ申請 | C18: ='【個人】1回目＞計算用シート'!C18 -> 0 | D18: 賃上げ要件の充足による補助上限額引き上げを申請している事業者は「該当あり」を選択してください。 | L18: 賃上げ | M18: 該当あり
B19: 加点に伴う賃上げ申請 | C19: ='【個人】1回目＞計算用シート'!C19 -> 0 | D19: 賃上げ要件の充足による加点を申請している事業者は「該当あり」を選択してください。 | M19: 該当なし
B21: Ⅱ.年度事業化及び収益状況の概要 | J21: =IF(COUNTBLANK(C29:D38)+COUNTBLANK(C41:D41)>0,"未入力あり","入力完了") -> 未入力あり
B22: 区分経理_損益計算書（全体／補助事業）
B23: ・決算報告書の損益計算書および貸借対照表を参照し、黄色セルに数字を入力してください。
B24: ・全体の金額を「損益計算書の金額」欄に、補助事業に限定した金額を「補助事業分」欄に、それぞれ入力してください。
B25: ・全体＝補助事業の場合や補助対象事業の切り分けが困難な場合は、「補助事業分」欄にも全体と同じ金額を入力してください。
B26: （単位：円） ※青字数字は、所得税青色申告決算書上の項目番号を示しています | C26: 申告決算書金額 （全体） | D26: 事業別の損益
D27: 補助事業分 | E27: 補助事業以外の事業／部門分（任意入力）
E28: 事業名 | G28: 事業名
B29: 売上高 ①
B30: 差引原価（売上原価） ⑥
B31: 差引金額（売上総利益） ⑦ | C31: =C29-C30 -> 0 | D31: =D29-D30 -> 0 | E31: =E29-E30 -> 0 | G31: =G29-G30 -> 0
B32: 経費 計（経費合計額） ㉜
B33: 差引金額 ㉝ | C33: =C31-C32 -> 0 | D33: =D31-D32 -> 0 | E33: =E31-E32 -> 0 | G33: =G31-G32 -> 0
B34: 繰戻額等 計 ㊲
B35: 繰入額等 計 ㊷
B36: 青色申告特別控除前の所得金額 ㊸ | C36: =C33+C34-C35 -> 0 | D36: =D33+D34-D35 -> 0 | E36: =E33+E34-E35 -> 0 | G36: =G33+G34-G35 -> 0
B37: 青色申告特別控除 ㊹
B38: 所得金額 ㊺ | C38: =C36-C37 -> 0 | D38: =D36-D37 -> 0 | E38: =E36-E37 -> 0 | G38: =G36-G37 -> 0
C40: 全体 | D40: 補助事業分 | E40: 補助事業以外の従事者
B41: 従業員数(名) | E41: =C41-D41 -> 0
B43: 2.事業化状況
...

Sheet 【個人】6回目＞計算用シート
A1: 【PMI推進枠(事業統合投資類型)｜個人事業主用】(12次公募) 事業化状況報告用 計算シート v1.0 | H1: =+IF(COUNTIF(J2:J6,"未入力あり")>0,"※未入力の項目があります","") -> ※未入力の項目があります
B2: ＜記載に際しての注意事項＞ | H2: =B9 -> Ⅰ.事業者情報と報告概要 | J2: =J9 -> 未入力あり
B3: ・本計算シートは必ずJグランツの専用フォーム「様式第12.事業化状況報告」より提出してください。 | H3: =B21 -> Ⅱ.年度事業化及び収益状況の概要 | J3: =J21 -> 未入力あり
B4: ・本計算シートに関連する各種証憑はHP掲載の『事業化状況報告マニュアル』の内容に従って提出してください。 | H4: =B50 -> Ⅲ.生産性向上に関する報告 | J4: =J50 -> 未入力あり
B5: ・本シートにおける「前事業年度」とは、報告対象となる年度の前年度を指します。 | H5: =B110 -> Ⅳ.賃金引上げに関する報告 | J5: =J110 -> 未入力あり
B6: ・薄黄色セルの数値の入力部分については、該当がない部分も必ず「0」を入力してください。
B7: ・入力ヒントをセル内のメモにて記載している項目がございますので、適宜ご確認の上、入力してください。
B8: ・「(※)」が記載されている箇所については、赤枠の黄色ワッペンにて補足がございますので、ご確認上ご記入ください。
B9: Ⅰ.事業者情報と報告概要 | J9: =IF(COUNTBLANK(C12:C19)>0,"未入力あり","入力完了") -> 未入力あり
B10: 事業者情報
B11: ・交付決定通知書、補助金の交付額確定通知書等を参照し、正確に情報を入力してください。
B12: 補助事業者名 | C12: ='【個人】1回目＞計算用シート'!C12 -> 0 | E12: 交付決定通知書等に記載のある補助事業者名を入力してください。
B13: 交付申請番号 | C13: ='【個人】1回目＞計算用シート'!C13 -> 0 | D13: 交付決定通知書等に記載のある交付申請番号（大文字の英字と数字の組み合わせ）を入力してください。
B14: 補助金の交付日 | C14: ='【個人】1回目＞計算用シート'!C14 -> 0 | D14: 補助金の交付日(=補助事業完了日)を入力してください。（202X年X月X日）
B15: 期首年月日 | D15: 今回の報告対象となる事業年度の期首年月日を記入してください。（202X年X月X日）
B16: 期末年月日 | D16: 今回の報告対象となる事業年度の期末年月日を記入してください。（202X年X月X日）
B17: 公募申請日を含む事業年度の期末年月日 | C17: ='【個人】1回目＞計算用シート'!C17 -> 0 | D17: 公募申請日を含む事業年度の期末年月日を記入してください。（202X年X月X日）
B18: 補助上限額引き上げに伴う賃上げ申請 | C18: ='【個人】1回目＞計算用シート'!C18 -> 0 | D18: 賃上げ要件の充足による補助上限額引き上げを申請している事業者は「該当あり」を選択してください。 | L18: 賃上げ | M18: 該当あり
B19: 加点に伴う賃上げ申請 | C19: ='【個人】1回目＞計算用シート'!C19 -> 0 | D19: 賃上げ要件の充足による加点を申請している事業者は「該当あり」を選択してください。 | M19: 該当なし
B21: Ⅱ.年度事業化及び収益状況の概要 | J21: =IF(COUNTBLANK(C29:D38)+COUNTBLANK(C41:D41)>0,"未入力あり","入力完了") -> 未入力あり
B22: 区分経理_損益計算書（全体／補助事業）
B23: ・決算報告書の損益計算書および貸借対照表を参照し、黄色セルに数字を入力してください。
B24: ・全体の金額を「損益計算書の金額」欄に、補助事業に限定した金額を「補助事業分」欄に、それぞれ入力してください。
B25: ・全体＝補助事業の場合や補助対象事業の切り分けが困難な場合は、「補助事業分」欄にも全体と同じ金額を入力してください。
B26: （単位：円） ※青字数字は、所得税青色申告決算書上の項目番号を示しています | C26: 申告決算書金額 （全体） | D26: 事業別の損益
D27: 補助事業分 | E27: 補助事業以外の事業／部門分（任意入力）
E28: 事業名 | G28: 事業名
B29: 売上高 ①
B30: 差引原価（売上原価） ⑥
B31: 差引金額（売上総利益） ⑦ | C31: =C29-C30 -> 0 | D31: =D29-D30 -> 0 | E31: =E29-E30 -> 0 | G31: =G29-G30 -> 0
B32: 経費 計（経費合計額） ㉜
B33: 差引金額 ㉝ | C33: =C31-C32 -> 0 | D33: =D31-D32 -> 0 | E33: =E31-E32 -> 0 | G33: =G31-G32 -> 0
B34: 繰戻額等 計 ㊲
B35: 繰入額等 計 ㊷
B36: 青色申告特別控除前の所得金額 ㊸ | C36: =C33+C34-C35 -> 0 | D36: =D33+D34-D35 -> 0 | E36: =E33+E34-E35 -> 0 | G36: =G33+G34-G35 -> 0
B37: 青色申告特別控除 ㊹
B38: 所得金額 ㊺ | C38: =C36-C37 -> 0 | D38: =D36-D37 -> 0 | E38: =E36-E37 -> 0 | G38: =G36-G37 -> 0
C40: 全体 | D40: 補助事業分 | E40: 補助事業以外の従事者
B41: 従業員数(名) | E41: =C41-D41 -> 0
B43: 2.事業化状況
...

Sheet データ用
B1: 補助金名 | C1: 補助事業完了期限日 | D1: 生産性向上要件 | E1: 生産性向上要件（補足） | F1: 賃上げ要件
B2: 令和2年度第3次補正予算 事業承継・引継ぎ補助金（第1次公募） | C2: 44561 | D2: n/a | E2: n/a | F2: n/a
B3: 令和2年度第3次補正予算 事業承継・引継ぎ補助金（第2次公募） | C3: 44561 | D3: n/a | E3: n/a | F3: n/a
B4: 令和3年度当初予算 事業承継・引継ぎ補助金 | C4: 44561 | D4: n/a | E4: n/a | F4: n/a
B5: 令和3年度補正予算 事業承継・引継ぎ補助金（第1次公募） | C5: 44957 | D5: 該当あり/なし | E5: 補助上限額引上げの要件（400→600万円） | F5: n/a
B6: 令和3年度補正予算 事業承継・引継ぎ補助金（第2次公募） | C6: 45046 | D6: 該当あり/なし | E6: 補助上限額引上げの要件（400→600万円） | F6: n/a
B7: 令和3年度補正予算 事業承継・引継ぎ補助金（第3次公募） | C7: 45138 | D7: 該当あり/なし | E7: 補助上限額引上げの要件（400→600万円） | F7: n/a
B8: 令和3年度補正予算 事業承継・引継ぎ補助金（第4次公募） | C8: 45216 | D8: 該当あり/なし | E8: 補助上限額引上げの要件（400→600万円） | F8: n/a
B9: 令和4年度当初予算 事業承継・引継ぎ補助金 | C9: 44911 | D9: 該当あり/なし | E9: 補助上限額引上げの要件（300→500万円） | F9: 加点要素
B10: 中小企業生産性革命推進事業 事業承継・引継ぎ補助金（第5次公募） | C10: 45313 | D10: 該当あり | E10: 申請上の必須要件 | F10: 補助上限額引上げの要件
B11: 中小企業生産性革命推進事業 事業承継・引継ぎ補助金（第6次公募） | C11: 45406 | D11: 該当あり | E11: 申請上の必須要件 | F11: 補助上限額引上げの要件
B12: 中小企業生産性革命推進事業 事業承継・引継ぎ補助金（第7次公募） | C12: 45473 | D12: 該当あり | E12: 申請上の必須要件 | F12: 補助上限額引上げの要件
B13: 中小企業生産性革命推進事業 事業承継・引継ぎ補助金（第8次公募） | C13: 45551 | D13: 該当あり | E13: 申請上の必須要件 | F13: 補助上限額引上げの要件/加点要素
... B17: 中小企業生産性革命推進事業 事業承継・M&A補助金（第12次公募） | C17: 46306 | D17: n/a | E17: n/a | F17: 加点要素
