Workbook
Name マスタデータ: #REF!
Name マスタデータ★: #REF!
Name マスタ表頭: #REF!
Name マスタ表頭★: #REF!
Name 検査対応データ★: #REF!
Name 検査対応表頭★: #REF!
Name 個別対応データ: #REF!
Name 個別対応表頭: #REF!
Name 交付決定後データ: #REF!
Name 交付決定後表頭: #REF!
Name 担当データ: #REF!
Name 担当データ★: #REF!
Name 担当表頭: #REF!
Name 担当表頭★: #REF!

Sheet 【申請者入力】様式第1.交付申請書
N1: e
B2: 【自動反映】様式第1.交付申請書へ | N2: e
C3: 中小企業生産性革命推進事業 事業承継・M&A補助金(15次公募) 廃業・再チャレンジ枠 様式第1.交付申請書v1.0 | N3: e
N4: e
N5: e
D6: ＜記載に際しての注意＞ | N6: e
D7: 必須 | E7: ・・・ 回答必須の項目となりますので、入力漏れ等が無いよう、必ず全ての項目に回答を記載してください。 | N7: e
D8: 該当必須 | E8: ・・・ 条件に該当する場合は回答必須の項目となりますので、該当時は必ず回答を記載してください。 | N8: e
D9: 入力不要 | E9: ・・・ 入力不要の項目（行）となります。 | N9: e
E10: ・・・ H列「申請者記載欄」の緑色着色部分が、回答の記載欄となります。尚、設定されている回答欄の枠内で回答が収まるよう、記載量を調整してください。 | N10: e
D11: ■J列の「Jグランツ上のラベル（項目名）」に記載がある項目については、Jグランツ上の項目と回答を整合させる必要がありますので、(コピー＆ペースト機能等を利用して)Jグランツ上に転記してください。不備があった場合、事務局の差し戻し後に事業者様側による修正対応が必要となります。 | N11: e
D12: ■提出に際しては、パスワードをかけず、エクセル形式のままで提出してください。（ファイルをPDF等にしないでください。） | N12: e
N13: e
N14: e
D15: 0.記入日（ご記入いただいた日付を「様式第1.交付申請書」の提出日とします） | N15: e
D16: 必須／ 該当必須 | E16: 記載項目 | G16: 記載 パターン | H16: 申請者記載欄 | I16: 記載に関する補足・記載例等 | J16: Jグランツ上のラベル（項目名） | N16: e
D17: 必須 | E17: 1.1 | F17: 記入日（年） | G17: 記述式 | I17: 半角数字4桁で入力してください。（西暦4桁） | J17: ー | N17: e
D18: 必須 | E18: 1.2 | F18: 記入日（月） | G18: 記述式 | I18: 半角数字2桁で入力してください。 | J18: ー | N18: e
D19: 必須 | E19: 1.3 | F19: 記入日（日） | G19: 記述式 | I19: 半角数字2桁で入力してください。 | J19: ー | N19: e
N20: e
D21: 1.公募申請_申請内容 | N21: e
D22: 必須／ 該当必須 | E22: 記載項目 | G22: 記載 パターン | H22: 申請者記載欄 | I22: 記載に関する補足・記載例等 | J22: Jグランツ上のラベル（項目名） | K22: Jグランツへの 正確な転記 | N22: e
D23: 必須 | E23: 1 | F23: 補助対象経費（廃業費）の合計額（単位：円） | G23: 記述式 | I23: 半角数字で入力してください。 公募申請時の金額を入力してください。 ※公募申請フォーム[5810_補助対象経費（廃業費）の合計額（単位：円）]をご参照ください。 経費が無い場合、「0」と入力してください。 | J23: 1050_廃業費の申請経費の合計金額 | N23: e
D24: 必須 | E24: 2 | F24: 廃業費の交付予定額（単位：円） | G24: 記述式 | I24: 半角数字で入力してください。 公募申請時の金額を入力してください。 ※公募申請フォーム[5820_合計：交付予定額（単位：円）]をご参照ください。 経費が無い場合、「0」と入力してください。 | J24: 1060_廃業費の交付予定金額 | N24: e
N25: e
D26: 2.交付申請_補助事業者情報 | N26: e
D27: 必須／ 該当必須 | E27: 記載項目 | G27: 記載 パターン | H27: 申請者記載欄 | I27: 記載に関する補足・記載例等 | J27: Jグランツ上のラベル（項目名） | K27: Jグランツへの 正確な転記 | N27: e
D28: 必須 | E28: 1 | F28: 交付申請番号 | G28: 記述式 | I28: 『採択通知書』に記載のある「交付申請番号」を入力してください。 | J28: 0110_交付申請番号 | N28: e
D29: 必須 | E29: 2 | F29: 補助事業者名 | G29: 記述式 | I29: 『採択通知書』に記載のある「補助事業者名」を入力してください。 | J29: 0120_補助事業者名 | N29: e
D30: 該当必須 | E30: 3 | F30: 共同申請者名 | G30: 記述式 | I30: 『採択通知書』に記載のある場合、「共同申請者名」を入力してください。 ※複数記載がある場合は『;』(半角セミコロン)で区切って入力してください。 | J30: 0130_共同申請者名 | N30: e
N31: e
D32: 3.交付申請_補助事業情報・補助金交付申請額 | N32: e
D33: 必須／ 該当必須 | E33: 記載項目 | G33: 記載 パターン | H33: 申請者記載欄 | I33: 記載に関する補足・記載例等 | J33: Jグランツ上のラベル（項目名） | K33: Jグランツへの 正確な転記 | N33: e
D34: 必須 | E34: 1 | F34: 補助事業の目的及び内容 | G34: 記述式 | I34: 補助事業の目的及び内容を簡潔に記載してください。 | J34: ー | K34: ー | N34: e
D35: 必須 | E35: 2.1.1 | F35: 補助事業の開始予定日（年） | G35: 記述式 | I35: 半角数字4桁で入力してください。 | J35: ー | K35: ー | N35: e
D36: 必須 | E36: 2.1.2 | F36: 補助事業の開始予定日（月） | G36: 記述式 | I36: 半角数字2桁で入力してください。 | J36: ー | K36: ー | N36: e
D37: 必須 | E37: 2.1.3 | F37: 補助事業の開始予定日（日） | G37: 記述式 | I37: 半角数字2桁で入力してください。 | J37: ー | K37: ー | N37: e
D38: 必須 | E38: 2.2.1 | F38: 補助事業の完了予定日（年） | G38: 記述式 | I38: 半角数字4桁で入力してください。 | J38: ー | K38: ー | N38: e
D39: 必須 | E39: 2.2.2 | F39: 補助事業の完了予定日（月） | G39: 記述式 | I39: 半角数字2桁で入力してください。 | J39: ー | K39: ー | N39: e
D40: 必須 | E40: 2.2.3 | F40: 補助事業の完了予定日（日） | G40: 記述式 | I40: 半角数字2桁で入力してください。 | J40: ー | K40: ー | N40: e
...

Sheet 【申請者入力】費目別明細書（廃業費）
S1: e
B2: 【経費区分】 | C2: 廃業費 | S2: e
S3: e
B4: ＜記載に際しての注意＞ | S4: e
B5: ●公募要領や手引書を十分に確認し、申請する経費の情報を入力/選択してください。尚、入力不備(赤色セル)が表示される場合には交付申請の受付けができません。セルのハイライトを参照し、正しい情報を入力ください。 | S5: e
B6: ●入力順について | S6: e
B7: 入力は、左の列から順にご記入いただきますようお願いいたします | S7: e
B8: ●入力内容の変更について | S8: e
B9: 入力内容を変更したい場合は、右側の列から削除を行い、該当の列に戻って修正を行ってください。（お手数をおかけしますが、ご協力のほどよろしくお願いいたします。） | S9: e
B10: 例）F列まで記入済みの場合に、D列を修正したいとき：① F列～D列の内容を削除してください。② C列を修正後、再度D列以降を入力してください。 | S10: e
B11: ●入力不備(赤色セル)表示について | S11: e
B12: 入力時に入力不備(赤色セル)が表示された場合は、次の入力項目（右側の列）には進めません。 | S12: e
B13: 入力不備(赤色セル)を解消後に、次の入力項目に進んでください。 | S13: e
B14: ●同一行に複数の入力不備(赤色セル)が表示された場合 | S14: e
B15: 一度に複数の入力不備(赤色セル)が表示された場合は、右側の列の入力内容から削除してください。削除後、修正を行ってください。 | S15: e
... B23: ※移転・移設費については、併用申請のみ計上可能となります。 | S23: e
K24: ①複数の見積の中で最低金額のため | S24: e
I25: 提出あり | J25: 提出あり | K25: ②選定先以外の2者以上に見積を依頼したが、全ての専門家・業者から見積を作成できないと断られたため | L25: 提出あり | M25: 提出あり | N25: 提出あり | S25: e
I26: 提出なし | J26: 提出なし | K26: ③日本国内で選定先以外の者が提供できないサービス・商品である | L26: 提出なし | M26: 提出なし | N26: 提出なし | S26: e
C27: プルダウン選択 | G27: 半角数値を入力 | H27: 半角数値を入力 | I27: プルダウン選択 | J27: プルダウン選択 | K27: プルダウン選択 | L27: プルダウン選択 | M27: プルダウン選択 | N27: プルダウン戦選択 | S27: e
B28: 経費No. | C28: 経費区分 | D28: 経費名 | E28: 経費の内容と必要性 | F28: 本見積先（発注予定先） | G28: (本見積)補助事業に要する経費 （税抜き） | H28: (本見積)補助対象経費 （税抜き） | I28: 見積依頼書 | J28: 見積書 | K28: 発注予定先の選定理由 | L28: 相見積書 | M28: 補足証憑 (2者以上の断り証憑/国内唯一の提供先である証憑) | N28: 契約書 (現行締結済) | O28: 相見積先 | P28: (相見積)補助対象経費 （税抜き） | Q28: 備考（連絡欄） | S28: e
B29: =IF(C29="","",_xlfn.XLOOKUP(C29,経費NO.!$C$2:$C$8,経費NO.!$B$2:$B$8)&"_"&COUNTIF($C$29:C29,C29)) | S29: e
B30: =IF(C30="","",_xlfn.XLOOKUP(C30,経費NO.!$C$2:$C$8,経費NO.!$B$2:$B$8)&"_"&COUNTIF($C$29:C30,C30)) | S30: e
B31: =IF(C31="","",_xlfn.XLOOKUP(C31,経費NO.!$C$2:$C$8,経費NO.!$B$2:$B$8)&"_"&COUNTIF($C$29:C31,C31)) | S31: e
B32: =IF(C32="","",_xlfn.XLOOKUP(C32,経費NO.!$C$2:$C$8,経費NO.!$B$2:$B$8)&"_"&COUNTIF($C$29:C32,C32)) | S32: e
B33: =IF(C33="","",_xlfn.XLOOKUP(C33,経費NO.!$C$2:$C$8,経費NO.!$B$2:$B$8)&"_"&COUNTIF($C$29:C33,C33)) | S33: e
B34: =IF(C34="","",_xlfn.XLOOKUP(C34,経費NO.!$C$2:$C$8,経費NO.!$B$2:$B$8)&"_"&COUNTIF($C$29:C34,C34)) | S34: e
B35: =IF(C35="","",_xlfn.XLOOKUP(C35,経費NO.!$C$2:$C$8,経費NO.!$B$2:$B$8)&"_"&COUNTIF($C$29:C35,C35)) | S35: e
B36: =IF(C36="","",_xlfn.XLOOKUP(C36,経費NO.!$C$2:$C$8,経費NO.!$B$2:$B$8)&"_"&COUNTIF($C$29:C36,C36)) | S36: e
B37: =IF(C37="","",_xlfn.XLOOKUP(C37,経費NO.!$C$2:$C$8,経費NO.!$B$2:$B$8)&"_"&COUNTIF($C$29:C37,C37)) | S37: e
B38: =IF(C38="","",_xlfn.XLOOKUP(C38,経費NO.!$C$2:$C$8,経費NO.!$B$2:$B$8)&"_"&COUNTIF($C$29:C38,C38)) | S38: e
B39: =IF(C39="","",_xlfn.XLOOKUP(C39,経費NO.!$C$2:$C$8,経費NO.!$B$2:$B$8)&"_"&COUNTIF($C$29:C39,C39)) | S39: e
B40: =IF(C40="","",_xlfn.XLOOKUP(C40,経費NO.!$C$2:$C$8,経費NO.!$B$2:$B$8)&"_"&COUNTIF($C$29:C40,C40)) | S40: e
... B48: =IF(C48="","",_xlfn.XLOOKUP(C48,経費NO.!$C$2:$C$8,経費NO.!$B$2:$B$8)&"_"&COUNTIF($C$29:C48,C48)) | S48: e
B49: ※本経費区分について、20個以上の経費申請を希望する場合には、事務局へ問い合わせください。 | S49: e
S50: e
A51: e | B51: e | C51: e | D51: e | E51: e | F51: e | G51: e | H51: e | I51: e | J51: e | K51: e | L51: e | M51: e | N51: e | O51: e | P51: e | Q51: e | R51: e | S51: e

Sheet 【自動反映】様式第1.交付申請書
A1: （様式第1）
L2: =【申請者入力】様式第1.交付申請書!H17 -> 0 | N2: 年 | O2: =【申請者入力】様式第1.交付申請書!H18 -> 0 | P2: 月 | Q2: =【申請者入力】様式第1.交付申請書!H19 -> 0 | R2: 日
B3: 事業承継・Ｍ＆Ａ補助金事務局 御中
M4: 交付申請番号： | N4: =【申請者入力】様式第1.交付申請書!H28 -> 0
B5: 凡例 | C5: 自動 表示 | M5: 補助事業者名： | N5: =【申請者入力】様式第1.交付申請書!H29 -> 0
M6: 共同申請者名： | N6: =【申請者入力】様式第1.交付申請書!H30 -> 0
B8: 中小企業生産性革命推進事業 事業承継・Ｍ＆Ａ補助金（廃業・再チャレンジ枠）交付申請書
B10: 事業承継・Ｍ＆Ａ補助金交付規程（以下「交付規程」という。）第 5 条第１項の規定に基づき、上記補助金の交付について下記のとおり申請します。 なお、補助金等に係る予算の執行の適正化に関する法律（昭和３０年法律第１７９号）、補助金等に係る予算の執行の適正化に関する法律施行令（昭和３０年政令第２５５号）、中小企業生産性革命推進事業補助金交付要綱及び交付規程の定めるところに従うことを承知の上、申請します。
J16: 記
B17: １． | C17: 補助事業の目的及び内容
C18: =【申請者入力】様式第1.交付申請書!H34 -> 0
U21: ⅰ.補助事業期間中に変更できない申請内容に、変更が生じた
U22: ⅱ.補助事業期間中に補助事業の遂行が困難になった
U23: ⅲ.『補助金交付決定通知書（様式第1）』を受領したが補助金交付を辞退する
B26: 2． | C26: 補助事業の開始及び完了予定日
C27: 2.1 補助事業の開始予定日 | K27: 2.2 補助事業の完了予定日 | U27: 補助事業者の変更
C28: =【申請者入力】様式第1.交付申請書!H35 -> 0 | E28: 年 | F28: =【申請者入力】様式第1.交付申請書!H36 -> 0 | G28: 月 | H28: =【申請者入力】様式第1.交付申請書!H37 -> 0 | I28: 日 | J28: ~ | K28: =【申請者入力】様式第1.交付申請書!H38 -> 0 | M28: 年 | N28: =【申請者入力】様式第1.交付申請書!H39 -> 0 | O28: 月 | P28: =【申請者入力】様式第1.交付申請書!H40 -> 0 | Q28: 日 | U28: 支援類型の変更
U29: 補助事業期間の変更
B30: 3． | C30: 補助事業実施場所に係る住所 | U30: 引継ぎ形態の変更
C31: 3.1 住所① | E31: =【申請者入力】様式第1.交付申請書!H41 -> 0 | U31: 共同申請者の変更
C32: 3.2 住所② | E32: =IFERROR(【申請者入力】様式第1.交付申請書!H42,"") -> 0 | U32: 補助対象経費の変更
C33: 3.3 住所③ | E33: =【申請者入力】様式第1.交付申請書!H43 -> 0
C34: 3.4 住所④ | E34: =【申請者入力】様式第1.交付申請書!H44 -> 0
B36: 4． | C36: 補助事業に要する経費（税抜き、単位：円）
C37: =【申請者入力】様式第1.交付申請書!H45 -> 0
B39: 5． | C39: 補助対象経費（税抜き、単位：円）
C40: =【申請者入力】様式第1.交付申請書!H46 -> 0
B42: 6． | C42: 補助金交付申請額（税抜き、単位：円）
C43: =【申請者入力】様式第1.交付申請書!H47 -> 0
B45: 7． | C45: 補助事業に要する経費、補助対象経費及び補助金の配分額
C46: 本ファイルの費目別明細書のとおり
B48: 8． | C48: 同上の金額の算出基礎
C49: 本ファイルの費目別明細書のとおり

Sheet 【自動反映】経費明細表
M1: e
C2: 経費明細表 | M2: e
G3: 0.5 | M3: e
D4: 1.補助率 | G4: 0.66666667 | M4: e
D5: 項目 | G5: 数値 | M5: e
D6: 補助率（固定） | G6: =G4 -> 0.66666667 | M6: e
M7: e
D8: 2.公募申請_申請内容 | M8: e
D9: 項目 | G9: 金額 | M9: e
D10: 廃業費の交付予定額（単位：円） | G10: =【申請者入力】様式第1.交付申請書!H24 -> 0 | M10: e
M11: e
D12: 3.交付申請_申請内容概要 | M12: e
D13: 経費区分 | G13: 補助事業に要する経費（税抜き） | H13: 補助対象経費（税抜き） | M13: e
D14: 廃業支援費 | G14: =SUMIF(廃業費[経費区分],$D14,廃業費[(本見積)補助事業に要する経費 （税抜き）]) -> 0 | H14: =SUMIF(廃業費[経費区分],$D14,廃業費[(本見積)補助対象経費 （税抜き）]) -> 0 | M14: e
D15: 在庫廃棄費 | G15: =SUMIF(廃業費[経費区分],$D15,廃業費[(本見積)補助事業に要する経費 （税抜き）]) -> 0 | H15: =SUMIF(廃業費[経費区分],$D15,廃業費[(本見積)補助対象経費 （税抜き）]) -> 0 | M15: e
D16: 解体費 | G16: =SUMIF(廃業費[経費区分],$D16,廃業費[(本見積)補助事業に要する経費 （税抜き）]) -> 0 | H16: =SUMIF(廃業費[経費区分],$D16,廃業費[(本見積)補助対象経費 （税抜き）]) -> 0 | M16: e
D17: 原状回復費 | G17: =SUMIF(廃業費[経費区分],$D17,廃業費[(本見積)補助事業に要する経費 （税抜き）]) -> 0 | H17: =SUMIF(廃業費[経費区分],$D17,廃業費[(本見積)補助対象経費 （税抜き）]) -> 0 | M17: e
D18: リースの解約費 | G18: =SUMIF(廃業費[経費区分],$D18,廃業費[(本見積)補助事業に要する経費 （税抜き）]) -> 0 | H18: =SUMIF(廃業費[経費区分],$D18,廃業費[(本見積)補助対象経費 （税抜き）]) -> 0 | M18: e
D19: 土壌汚染調査費 | G19: =SUMIF(廃業費[経費区分],$D19,廃業費[(本見積)補助事業に要する経費 （税抜き）]) -> 0 | H19: =SUMIF(廃業費[経費区分],$D19,廃業費[(本見積)補助対象経費 （税抜き）]) -> 0 | M19: e
M20: e
D21: 4.交付申請_申請額 | M21: e
D22: 項目 | G22: 金額 | H22: 上限1※公募要領上 | M22: e
D23: 〇廃業費に係る費用の合計 | M23: e
F24: 廃業費の補助事業に要する経費（税抜き、単位：円） | G24: =SUM(G14:G19) -> 0 | H24: ー | M24: e
F25: 廃業費の補助対象経費（税抜き、単位：円） | G25: =SUM(MIN(H14,750000),H15:H19) -> 0 | H25: ー | M25: e
F26: 廃業費の補助金交付申請額（税抜き、単位：円） | G26: =INT(MIN(G25*G6,H26,G10)) -> 0 | H26: =IF(G25>0,3000000,0) -> 0 | M26: e
D27: 〇合計 | M27: e
F28: 補助事業に要する経費（税抜き、単位：円） | G28: =SUM(G24) -> 0 | H28: ー | M28: e
F29: 補助対象経費 （税抜き、単位：円） | G29: =SUM(G25) -> 0 | H29: ー | M29: e
F30: 補助金交付申請額 （税抜き、単位：円） | G30: =IF(AND(SUM(G26)>=0.1,SUM(G26)<500000),0.1,INT(MIN(SUM(G26),H30))) -> 0 | H30: =H26 -> 0 | M30: e
G31: ※補助金交付申請額が、下限額を下回っています。 | M31: e
M32: e
M33: e
A34: e | B34: e | C34: e | D34: e | E34: e | F34: e | G34: e | H34: e | I34: e | J34: e | K34: e | L34: e | M34: e

Sheet 経費NO.
B2: 経費コード | C2: 経費区分
B3: A | C3: 廃業支援費
B4: B | C4: 在庫廃棄費
B5: C | C5: 解体費
B6: D | C6: 原状回復費
B7: E | C7: リースの解約費
B8: O | C8: 土壌汚染調査費
