Workbook
Name マスタデータ: #REF!
Name マスタデータ★: #REF!
Name マスタ表頭: #REF!
Name マスタ表頭★: #REF!
Name 検査対応データ★: #REF!
Name 検査対応表頭★: #REF!
Name 個別対応データ: #REF!
Name 個別対応表頭: #REF!
Name 交付決定後データ: #REF!
Name 交付決定後表頭: #REF!
Name 担当データ: #REF!
Name 担当データ★: #REF!
Name 担当表頭: #REF!
Name 担当表頭★: #REF!

Sheet 【申請者入力】様式第1.交付申請書
N1: e
B2: 【自動反映】様式第1.交付申請書へ | N2: e
C3: 中小企業生産性革命推進事業 事業承継・M&A補助金(15次公募) 事業承継促進枠 様式第1.交付申請書v1.0 | N3: e
N4: e
N5: e
D6: ＜記載に際しての注意＞ | N6: e
D7: 必須 | E7: ・・・ 回答必須の項目となりますので、入力漏れ等が無いよう、必ず全ての項目に回答を記載してください。 | N7: e
D8: 該当必須 | E8: ・・・ 条件に該当する場合は回答必須の項目となりますので、該当時は必ず回答を記載してください。 | N8: e
D9: 入力不要 | E9: ・・・ 入力不要の項目（行）となります。 | N9: e
E10: ・・・ H列「申請者記載欄」の緑色着色部分が、回答の記載欄となります。尚、設定されている回答欄の枠内で回答が収まるよう、記載量を調整してください。 | N10: e
D11: ■J列の「Jグランツ上のラベル（項目名）」に記載がある項目については、Jグランツ上の項目と回答を整合させる必要がありますので、(コピー＆ペースト機能等を利用して)Jグランツ上に転記してください。不備があった場合、事務局の差し戻し後に事業者様側による修正対応が必要となります。 | N11: e
D12: ■提出に際しては、パスワードをかけず、エクセル形式のままで提出してください。（ファイルをPDF等にしないでください。） | N12: e
N13: e
N14: e
D15: 0.記入日（ご記入いただいた日付を「様式第1.交付申請書」の提出日とします） | N15: e
D16: 必須／ 該当必須 | E16: 記載項目 | G16: 記載 パターン | H16: 申請者記載欄 | I16: 記載に関する補足・記載例等 | J16: Jグランツ上のラベル（項目名） | N16: e
D17: 必須 | E17: 1.1 | F17: 記入日（年） | G17: 記述式 | I17: 半角数字4桁で入力してください。（西暦4桁） | J17: ー | N17: e
D18: 必須 | E18: 1.2 | F18: 記入日（月） | G18: 記述式 | I18: 半角数字2桁で入力してください。 | J18: ー | N18: e
D19: 必須 | E19: 1.3 | F19: 記入日（日） | G19: 記述式 | I19: 半角数字2桁で入力してください。 | J19: ー | N19: e
N20: e
D21: 1.公募申請_申請内容 | N21: e
D22: 必須／ 該当必須 | E22: 記載項目 | G22: 記載 パターン | H22: 申請者記載欄 | I22: 記載に関する補足・記載例等 | J22: Jグランツ上のラベル（項目名） | K22: Jグランツへの 正確な転記 | N22: e
D23: 必須 | E23: 1 | F23: 補助率に関する要件 | G23: 選択式 | I23: 公募申請時の申請内容を選択してください。 ※公募申請フォーム「4760_補助率に関する要件として、該当するものを選択してください。」をご参照ください。 ①を選択されていた場合には補助率は2/3以内、②を選択していた場合には補助率は1/2以内となります。 | J23: ー | K23: ー | N23: e | O23: ①小規模事業者支援法上の小規模事業者等に該当する | P23: ②小規模事業者支援法上の小規模事業者等に該当しない
D24: 必須 | E24: 2 | F24: 補助上限額に関する要件 | G24: 選択式 | I24: 公募申請時の申請内容を選択してください。 ※公募申請フォーム[4910_補助上限額引上げに関する賃上げ実施の有無]をご参照ください。 ①を選択されていた場合には補助上限額は1千万円、②を選択していた場合には補助上限額は8百万円となります。 | J24: ー | K24: ー | N24: e | O24: ①賃上げを実施する | P24: ②賃上げを実施しない
D25: 必須 | E25: 3 | F25: 補助対象経費（事業費）の合計額（単位：円） | G25: 記述式 | I25: 半角数字で入力してください。 公募申請時の金額を入力してください。 ※公募申請フォーム[5010_補助対象経費（事業費）の合計額（単位：円）]をご参照ください。 | J25: 1010_Ⅰ.事業費の申請経費の合計金額 | N25: e
D26: 必須 | E26: 4 | F26: 事業費の交付予定額（単位：円） | G26: 記述式 | I26: 半角数字で入力してください。 公募申請時の金額を入力してください。 ※公募申請フォーム[5020_事業費の交付予定額（単位：円）]をご参照ください。 | J26: 1020_Ⅰ.事業費の交付予定額 | N26: e
D27: 必須 | E27: 5 | F27: 補助対象経費（廃業費）の合計額（単位：円） | G27: 記述式 | I27: 半角数字で入力してください。 公募申請時の金額を入力してください。 ※公募申請フォーム[5410_補助対象経費（廃業費）の合計額（単位：円）]をご参照ください。 経費が無い場合、「0」と入力してください。 | J27: 1050_Ⅱ.廃業費（併用申請）の申請経費の合計金額 | N27: e
D28: 必須 | E28: 6 | F28: 廃業費の交付予定額（単位：円） | G28: 記述式 | I28: 半角数字で入力してください。 公募申請時の金額を入力してください。 ※公募申請フォーム[5420_廃業費の交付予定額（単位：円）]をご参照ください。 経費が無い場合、「0」と入力してください。 | J28: 1060_Ⅱ.廃業費（併用申請）の交付予定金額 | N28: e
N29: e
D30: 2.交付申請_補助事業者情報 | N30: e
D31: 必須／ 該当必須 | E31: 記載項目 | G31: 記載 パターン | H31: 申請者記載欄 | I31: 記載に関する補足・記載例等 | J31: Jグランツ上のラベル（項目名） | K31: Jグランツへの 正確な転記 | N31: e
D32: 必須 | E32: 1 | F32: 交付申請番号 | G32: 記述式 | I32: 『採択通知書』に記載のある「交付申請番号」を入力してください。 | J32: 0110_交付申請番号 | N32: e
D33: 必須 | E33: 2 | F33: 補助事業者名 | G33: 記述式 | I33: 『採択通知書』に記載のある「補助事業者名」を入力してください。 | J33: 0120_補助事業者名 | N33: e
D34: 該当必須 | E34: 3 | F34: 共同申請者名 | G34: 記述式 | I34: 『採択通知書』に記載のある場合、「共同申請者名」を入力してください。 ※複数記載がある場合は『;』(半角セミコロン)で区切って入力してください。 | J34: 0130_共同申請者名 | N34: e
N35: e
D36: 3.交付申請_補助事業情報・補助金交付申請額 | N36: e
D37: 必須／ 該当必須 | E37: 記載項目 | G37: 記載 パターン | H37: 申請者記載欄 | I37: 記載に関する補足・記載例等 | J37: Jグランツ上のラベル（項目名） | K37: Jグランツへの 正確な転記 | N37: e
D38: 必須 | E38: 1 | F38: 補助事業の目的及び内容 | G38: 記述式 | I38: 補助事業の目的及び内容を簡潔に記載してください。 | J38: ー | K38: ー | N38: e
D39: 必須 | E39: 2.1.1 | F39: 補助事業の開始予定日（年） | G39: 記述式 | I39: 半角数字4桁で入力してください。 | J39: ー | K39: ー | N39: e
D40: 必須 | E40: 2.1.2 | F40: 補助事業の開始予定日（月） | G40: 記述式 | I40: 半角数字2桁で入力してください。 | J40: ー | K40: ー | N40: e
...

Sheet 【申請者入力】費目別明細書（事業費）
R1: e
B2: 【経費区分】 | C2: 事業費（謝金・旅費を除く） | R2: e
R3: e
B4: ＜記載に際しての注意＞ | R4: e
B5: ●公募要領や手引書を十分に確認し、申請する経費の情報を入力/選択してください。尚、入力不備(赤色セル)が表示される場合には交付申請の受付けができません。セルのハイライトを参照し、正しい情報を入力ください。 | R5: e
B6: ●入力順について | R6: e
B7: 入力は、左の列から順にご記入いただきますようお願いいたします | R7: e
B8: ●入力内容の変更について | R8: e
B9: 入力内容を変更したい場合は、右側の列から削除を行い、該当の列に戻って修正を行ってください。（お手数をおかけしますが、ご協力のほどよろしくお願いいたします。） | R9: e
B10: 例）F列まで記入済みの場合に、D列を修正したいとき：① F列～D列の内容を削除してください。② C列を修正後、再度D列以降を入力してください。 | R10: e
B11: ●入力不備(赤色セル)表示について | R11: e
B12: 入力時に入力不備(赤色セル)が表示された場合は、次の入力項目（右側の列）には進めません。 | R12: e
B13: 入力不備(赤色セル)を解消後に、次の入力項目に進んでください。 | R13: e
B14: ●同一行に複数の入力不備(赤色セル)が表示された場合 | R14: e
B15: 一度に複数の入力不備(赤色セル)が表示された場合は、右側の列の入力内容から削除してください。削除後、修正を行ってください。 | R15: e
... B17: ー設備費・産業財産権等関連経費・外注費・委託費（謝金・旅費を申請する場合には専用シートに入力ください） | R17: e
R18: e
R19: e
R20: e
R21: e
R22: e
K23: ①複数の見積の中で最低金額のため | R23: e
K24: ②選定先以外の2者以上に見積を依頼したが、全ての専門家・業者から見積を作成できないと断られたため | R24: e
I25: 提出あり | J25: 提出あり | K25: ③日本国内で選定先以外の者が提供できないサービス・商品である | L25: 提出あり | M25: 提出あり | R25: e
I26: 提出なし | J26: 提出なし | K26: ④その他 ※P列の備考(連絡欄)に理由をご記載ください | L26: 提出なし | M26: 提出なし | R26: e
C27: プルダウン選択 | G27: 半角数値を入力 | H27: 半角数値を入力 | I27: プルダウン選択 | J27: プルダウン選択 | K27: プルダウン選択 | L27: プルダウン選択 | M27: プルダウン選択 | R27: e
B28: 経費No. | C28: 経費区分 | D28: 経費名 | E28: 経費の内容と必要性 | F28: 本見積先 （発注予定先） | G28: (本見積)補助事業に要する経費（税抜き） | H28: (本見積)補助対象経費 （税抜き） | I28: 見積依頼書 | J28: 見積書 | K28: 発注予定先の選定理由 | L28: 相見積書 | M28: 補足証憑 (2者以上の断り証憑/国内唯一の提供先である証憑) | N28: 相見積先 | O28: (相見積)補助対象経費（税抜き） | P28: 備考（連絡欄） | R28: e
B29: =IF(C29="","",_xlfn.XLOOKUP(C29,経費NO.!$C$2:$C$17,経費NO.!$B$2:$B$17)&"_"&COUNTIF($C$29:C29,C29)) | R29: e
B30: =IF(C30="","",_xlfn.XLOOKUP(C30,経費NO.!$C$2:$C$17,経費NO.!$B$2:$B$17)&"_"&COUNTIF($C$29:C30,C30)) | R30: e
B31: =IF(C31="","",_xlfn.XLOOKUP(C31,経費NO.!$C$2:$C$17,経費NO.!$B$2:$B$17)&"_"&COUNTIF($C$29:C31,C31)) | R31: e
B32: =IF(C32="","",_xlfn.XLOOKUP(C32,経費NO.!$C$2:$C$17,経費NO.!$B$2:$B$17)&"_"&COUNTIF($C$29:C32,C32)) | R32: e
B33: =IF(C33="","",_xlfn.XLOOKUP(C33,経費NO.!$C$2:$C$17,経費NO.!$B$2:$B$17)&"_"&COUNTIF($C$29:C33,C33)) | R33: e
B34: =IF(C34="","",_xlfn.XLOOKUP(C34,経費NO.!$C$2:$C$17,経費NO.!$B$2:$B$17)&"_"&COUNTIF($C$29:C34,C34)) | R34: e
B35: =IF(C35="","",_xlfn.XLOOKUP(C35,経費NO.!$C$2:$C$17,経費NO.!$B$2:$B$17)&"_"&COUNTIF($C$29:C35,C35)) | R35: e
B36: =IF(C36="","",_xlfn.XLOOKUP(C36,経費NO.!$C$2:$C$17,経費NO.!$B$2:$B$17)&"_"&COUNTIF($C$29:C36,C36)) | R36: e
B37: =IF(C37="","",_xlfn.XLOOKUP(C37,経費NO.!$C$2:$C$17,経費NO.!$B$2:$B$17)&"_"&COUNTIF($C$29:C37,C37)) | R37: e
B38: =IF(C38="","",_xlfn.XLOOKUP(C38,経費NO.!$C$2:$C$17,経費NO.!$B$2:$B$17)&"_"&COUNTIF($C$29:C38,C38)) | R38: e
B39: =IF(C39="","",_xlfn.XLOOKUP(C39,経費NO.!$C$2:$C$17,経費NO.!$B$2:$B$17)&"_"&COUNTIF($C$29:C39,C39)) | R39: e
B40: =IF(C40="","",_xlfn.XLOOKUP(C40,経費NO.!$C$2:$C$17,経費NO.!$B$2:$B$17)&"_"&COUNTIF($C$29:C40,C40)) | R40: e
... B48: =IF(C48="","",_xlfn.XLOOKUP(C48,経費NO.!$C$2:$C$17,経費NO.!$B$2:$B$17)&"_"&COUNTIF($C$29:C48,C48)) | R48: e
...

Sheet 【申請者入力】費目別明細書（謝金）
N1: e
B2: 【経費区分】 | C2: 謝金 | N2: e
N3: e
B4: ＜記載に際しての注意＞ | N4: e
B5: ●公募要領や手引書を十分に確認し、申請する経費の情報を入力/選択してください。尚、入力不備(赤色セル)が表示される場合には交付申請の受付けができません。セルのハイライトを参照し、正しい情報を入力ください。 | N5: e
B6: ●入力順について | N6: e
B7: 入力は、左の列から順にご記入いただきますようお願いいたします | N7: e
B8: ●入力内容の変更について | N8: e
B9: 入力内容を変更したい場合は、右側の列から削除を行い、該当の列に戻って修正を行ってください。（お手数をおかけしますが、ご協力のほどよろしくお願いいたします。） | N9: e
B10: 例）F列まで記入済みの場合に、D列を修正したいとき：① F列～D列の内容を削除してください。② C列を修正後、再度D列以降を入力してください。 | N10: e
B11: ●入力不備(赤色セル)表示について | N11: e
B12: 入力時に入力不備(赤色セル)が表示された場合は、次の入力項目（右側の列）には進めません。 | N12: e
B13: 入力不備(赤色セル)を解消後に、次の入力項目に進んでください。 | N13: e
B14: ●同一行に複数の入力不備(赤色セル)が表示された場合 | N14: e
B15: 一度に複数の入力不備(赤色セル)が表示された場合は、右側の列の入力内容から削除してください。削除後、修正を行ってください。 | N15: e
... B17: ー謝金 | N17: e
N18: e
N19: e
N20: e
N21: e
N22: e
N23: e
N24: e
I25: 提出あり | J25: 提出あり | K25: 提出あり | N25: e
I26: 提出なし | J26: 提出なし | K26: 提出なし | N26: e
C27: プルダウン選択 | G27: 半角数値を入力 | H27: 半角数値を入力 | I27: プルダウン選択 | J27: プルダウン選択 | K27: プルダウン選択 | N27: e
B28: 経費No. | C28: 経費区分 | D28: 経費名 | E28: 経費の内容と必要性 | F28: 依頼先の専門家名 | G28: (本見積)補助事業に要する経費（税抜き） | H28: (本見積)補助対象経費 （税抜き） | I28: 専門家等への依頼状・就任依頼書 | J28: 補足証憑 (専門家の職位等を確認できる資料) | K28: 補足証憑 (基準謝金単価を確認できる資料) | L28: 備考（連絡欄） | N28: e
B29: =IF(C29="","",_xlfn.XLOOKUP(C29,経費NO.!$C$2:$C$17,経費NO.!$B$2:$B$17)&"_"&COUNTIF($C$29:C29,C29)) | N29: e
B30: =IF(C30="","",_xlfn.XLOOKUP(C30,経費NO.!$C$2:$C$17,経費NO.!$B$2:$B$17)&"_"&COUNTIF($C$29:C30,C30)) | N30: e
B31: =IF(C31="","",_xlfn.XLOOKUP(C31,経費NO.!$C$2:$C$17,経費NO.!$B$2:$B$17)&"_"&COUNTIF($C$29:C31,C31)) | N31: e
B32: =IF(C32="","",_xlfn.XLOOKUP(C32,経費NO.!$C$2:$C$17,経費NO.!$B$2:$B$17)&"_"&COUNTIF($C$29:C32,C32)) | N32: e
B33: =IF(C33="","",_xlfn.XLOOKUP(C33,経費NO.!$C$2:$C$17,経費NO.!$B$2:$B$17)&"_"&COUNTIF($C$29:C33,C33)) | N33: e
B34: =IF(C34="","",_xlfn.XLOOKUP(C34,経費NO.!$C$2:$C$17,経費NO.!$B$2:$B$17)&"_"&COUNTIF($C$29:C34,C34)) | N34: e
B35: =IF(C35="","",_xlfn.XLOOKUP(C35,経費NO.!$C$2:$C$17,経費NO.!$B$2:$B$17)&"_"&COUNTIF($C$29:C35,C35)) | N35: e
B36: =IF(C36="","",_xlfn.XLOOKUP(C36,経費NO.!$C$2:$C$17,経費NO.!$B$2:$B$17)&"_"&COUNTIF($C$29:C36,C36)) | N36: e
B37: =IF(C37="","",_xlfn.XLOOKUP(C37,経費NO.!$C$2:$C$17,経費NO.!$B$2:$B$17)&"_"&COUNTIF($C$29:C37,C37)) | N37: e
B38: =IF(C38="","",_xlfn.XLOOKUP(C38,経費NO.!$C$2:$C$17,経費NO.!$B$2:$B$17)&"_"&COUNTIF($C$29:C38,C38)) | N38: e
B39: =IF(C39="","",_xlfn.XLOOKUP(C39,経費NO.!$C$2:$C$17,経費NO.!$B$2:$B$17)&"_"&COUNTIF($C$29:C39,C39)) | N39: e
B40: =IF(C40="","",_xlfn.XLOOKUP(C40,経費NO.!$C$2:$C$17,経費NO.!$B$2:$B$17)&"_"&COUNTIF($C$29:C40,C40)) | N40: e
... B48: =IF(C48="","",_xlfn.XLOOKUP(C48,経費NO.!$C$2:$C$17,経費NO.!$B$2:$B$17)&"_"&COUNTIF($C$29:C48,C48)) | N48: e
...

Sheet 【申請者入力】費目別明細書（旅費）
S1: e
B2: 【経費区分】 | C2: 旅費 | S2: e
S3: e
B4: ＜記載に際しての注意＞ | S4: e
B5: ●公募要領や手引書を十分に確認し、申請する経費の情報を入力/選択してください。尚、入力不備(赤色セル)が表示される場合には交付申請の受付けができません。セルのハイライトを参照し、正しい情報を入力ください。 | S5: e
B6: ●入力順について | S6: e
B7: 入力は、左の列から順にご記入いただきますようお願いいたします | S7: e
B8: ●入力内容の変更について | S8: e
B9: 入力内容を変更したい場合は、右側の列から削除を行い、該当の列に戻って修正を行ってください。（お手数をおかけしますが、ご協力のほどよろしくお願いいたします。） | S9: e
B10: 例）F列まで記入済みの場合に、D列を修正したいとき：① F列～D列の内容を削除してください。② C列を修正後、再度D列以降を入力してください。 | S10: e
B11: ●入力不備(赤色セル)表示について | S11: e
B12: 入力時に入力不備(赤色セル)が表示された場合は、次の入力項目（右側の列）には進めません。 | S12: e
B13: 入力不備(赤色セル)を解消後に、次の入力項目に進んでください。 | S13: e
B14: ●同一行に複数の入力不備(赤色セル)が表示された場合 | S14: e
B15: 一度に複数の入力不備(赤色セル)が表示された場合は、右側の列の入力内容から削除してください。削除後、修正を行ってください。 | S15: e
... B17: ー旅費 | S17: e
S18: e
S19: e
S20: e
S21: e
S22: e
S23: e
S24: e
F25: 〇 | G25: 〇 | K25: 提出あり | L25: 提出あり | M25: 提出あり | N25: 提出あり | S25: e
F26: ✕ | G26: ✕ | K26: 提出なし | L26: 提出なし | M26: 提出なし | N26: 提出なし | S26: e
C27: プルダウン選択 | F27: プルダウン選択 | G27: プルダウン選択 | I27: 半角数値を入力 | J27: 半角数値を入力 | K27: プルダウン選択 | L27: プルダウン選択 | M27: プルダウン選択 | N27: プルダウン選択 | S27: e
B28: 経費No. | C28: 経費区分 | D28: 経費名 | E28: 経費の内容と必要性 | F28: 旅行代理店の利用 | G28: ビジネスパックの利用 | H28: 本見積先 （発注予定先） | I28: (本見積)補助事業に要する経費（税抜き） | J28: (本見積)補助対象経費 （税抜き） | K28: 見積依頼書 | L28: 見積書 | M28: 相見積書 | N28: 補足証憑 (ビジネスパックの内容・正規交通料金が確認できる資料) | O28: 相見積先 | P28: (相見積)補助対象経費 （税抜き） | Q28: 備考（連絡欄） | S28: e
B29: =IF(C29="","",_xlfn.XLOOKUP(C29,経費NO.!$C$2:$C$17,経費NO.!$B$2:$B$17)&"_"&COUNTIF($C$29:C29,C29)) | S29: e
B30: =IF(C30="","",_xlfn.XLOOKUP(C30,経費NO.!$C$2:$C$17,経費NO.!$B$2:$B$17)&"_"&COUNTIF($C$29:C30,C30)) | S30: e
B31: =IF(C31="","",_xlfn.XLOOKUP(C31,経費NO.!$C$2:$C$17,経費NO.!$B$2:$B$17)&"_"&COUNTIF($C$29:C31,C31)) | S31: e
B32: =IF(C32="","",_xlfn.XLOOKUP(C32,経費NO.!$C$2:$C$17,経費NO.!$B$2:$B$17)&"_"&COUNTIF($C$29:C32,C32)) | S32: e
B33: =IF(C33="","",_xlfn.XLOOKUP(C33,経費NO.!$C$2:$C$17,経費NO.!$B$2:$B$17)&"_"&COUNTIF($C$29:C33,C33)) | S33: e
B34: =IF(C34="","",_xlfn.XLOOKUP(C34,経費NO.!$C$2:$C$17,経費NO.!$B$2:$B$17)&"_"&COUNTIF($C$29:C34,C34)) | S34: e
B35: =IF(C35="","",_xlfn.XLOOKUP(C35,経費NO.!$C$2:$C$17,経費NO.!$B$2:$B$17)&"_"&COUNTIF($C$29:C35,C35)) | S35: e
B36: =IF(C36="","",_xlfn.XLOOKUP(C36,経費NO.!$C$2:$C$17,経費NO.!$B$2:$B$17)&"_"&COUNTIF($C$29:C36,C36)) | S36: e
B37: =IF(C37="","",_xlfn.XLOOKUP(C37,経費NO.!$C$2:$C$17,経費NO.!$B$2:$B$17)&"_"&COUNTIF($C$29:C37,C37)) | S37: e
B38: =IF(C38="","",_xlfn.XLOOKUP(C38,経費NO.!$C$2:$C$17,経費NO.!$B$2:$B$17)&"_"&COUNTIF($C$29:C38,C38)) | S38: e
B39: =IF(C39="","",_xlfn.XLOOKUP(C39,経費NO.!$C$2:$C$17,経費NO.!$B$2:$B$17)&"_"&COUNTIF($C$29:C39,C39)) | S39: e
B40: =IF(C40="","",_xlfn.XLOOKUP(C40,経費NO.!$C$2:$C$17,経費NO.!$B$2:$B$17)&"_"&COUNTIF($C$29:C40,C40)) | S40: e
... B48: =IF(C48="","",_xlfn.XLOOKUP(C48,経費NO.!$C$2:$C$17,経費NO.!$B$2:$B$17)&"_"&COUNTIF($C$29:C48,C48)) | S48: e
...

Sheet 【申請者入力】費目別明細書（廃業費）
S1: e
B2: 【経費区分】 | C2: 廃業費 | S2: e
S3: e
B4: ＜記載に際しての注意＞ | S4: e
B5: ●公募要領や手引書を十分に確認し、申請する経費の情報を入力/選択してください。尚、入力不備(赤色セル)が表示される場合には交付申請の受付けができません。セルのハイライトを参照し、正しい情報を入力ください。 | S5: e
B6: ●入力順について | S6: e
B7: 入力は、左の列から順にご記入いただきますようお願いいたします | S7: e
B8: ●入力内容の変更について | S8: e
B9: 入力内容を変更したい場合は、右側の列から削除を行い、該当の列に戻って修正を行ってください。（お手数をおかけしますが、ご協力のほどよろしくお願いいたします。） | S9: e
B10: 例）F列まで記入済みの場合に、D列を修正したいとき：① F列～D列の内容を削除してください。② C列を修正後、再度D列以降を入力してください。 | S10: e
B11: ●入力不備(赤色セル)表示について | S11: e
B12: 入力時に入力不備(赤色セル)が表示された場合は、次の入力項目（右側の列）には進めません。 | S12: e
B13: 入力不備(赤色セル)を解消後に、次の入力項目に進んでください。 | S13: e
B14: ●同一行に複数の入力不備(赤色セル)が表示された場合 | S14: e
B15: 一度に複数の入力不備(赤色セル)が表示された場合は、右側の列の入力内容から削除してください。削除後、修正を行ってください。 | S15: e
... B21: ーリースの解約費 | S21: e
B22: ー移転・移設費用
B23: ー土壌汚染調査費 | S23: e
K24: ①複数の見積の中で最低金額のため | S24: e
I25: 提出あり | J25: 提出あり | K25: ②選定先以外の2者以上に見積を依頼したが、全ての専門家・業者から見積を作成できないと断られたため | L25: 提出あり | M25: 提出あり | N25: 提出あり | S25: e
I26: 提出なし | J26: 提出なし | K26: ③日本国内で選定先以外の者が提供できないサービス・商品である | L26: 提出なし | M26: 提出なし | N26: 提出なし | S26: e
C27: プルダウン選択 | G27: 半角数値を入力 | H27: 半角数値を入力 | I27: プルダウン選択 | J27: プルダウン選択 | K27: プルダウン選択 | L27: プルダウン選択 | M27: プルダウン選択 | N27: プルダウン戦選択 | S27: e
B28: 経費No. | C28: 経費区分 | D28: 経費名 | E28: 経費の内容と必要性 | F28: 本見積先（発注予定先） | G28: (本見積)補助事業に要する経費（税抜き） | H28: (本見積)補助対象経費 （税抜き） | I28: 見積依頼書 | J28: 見積書 | K28: 発注予定先の選定理由 | L28: 相見積書 | M28: 補足証憑 (2者以上の断り証憑) | N28: 契約書 (現行締結済) | O28: 相見積先 | P28: (相見積)補助対象経費（税抜き） | Q28: 備考（連絡欄） | S28: e
B29: =IF(C29="","",_xlfn.XLOOKUP(C29,経費NO.!$C$2:$C$17,経費NO.!$B$2:$B$17)&"_"&COUNTIF($C$29:C29,C29)) | S29: e
B30: =IF(C30="","",_xlfn.XLOOKUP(C30,経費NO.!$C$2:$C$17,経費NO.!$B$2:$B$17)&"_"&COUNTIF($C$29:C30,C30)) | S30: e
B31: =IF(C31="","",_xlfn.XLOOKUP(C31,経費NO.!$C$2:$C$17,経費NO.!$B$2:$B$17)&"_"&COUNTIF($C$29:C31,C31)) | S31: e
B32: =IF(C32="","",_xlfn.XLOOKUP(C32,経費NO.!$C$2:$C$17,経費NO.!$B$2:$B$17)&"_"&COUNTIF($C$29:C32,C32)) | S32: e
B33: =IF(C33="","",_xlfn.XLOOKUP(C33,経費NO.!$C$2:$C$17,経費NO.!$B$2:$B$17)&"_"&COUNTIF($C$29:C33,C33)) | S33: e
B34: =IF(C34="","",_xlfn.XLOOKUP(C34,経費NO.!$C$2:$C$17,経費NO.!$B$2:$B$17)&"_"&COUNTIF($C$29:C34,C34)) | S34: e
B35: =IF(C35="","",_xlfn.XLOOKUP(C35,経費NO.!$C$2:$C$17,経費NO.!$B$2:$B$17)&"_"&COUNTIF($C$29:C35,C35)) | S35: e
B36: =IF(C36="","",_xlfn.XLOOKUP(C36,経費NO.!$C$2:$C$17,経費NO.!$B$2:$B$17)&"_"&COUNTIF($C$29:C36,C36)) | S36: e
B37: =IF(C37="","",_xlfn.XLOOKUP(C37,経費NO.!$C$2:$C$17,経費NO.!$B$2:$B$17)&"_"&COUNTIF($C$29:C37,C37)) | S37: e
B38: =IF(C38="","",_xlfn.XLOOKUP(C38,経費NO.!$C$2:$C$17,経費NO.!$B$2:$B$17)&"_"&COUNTIF($C$29:C38,C38)) | S38: e
B39: =IF(C39="","",_xlfn.XLOOKUP(C39,経費NO.!$C$2:$C$17,経費NO.!$B$2:$B$17)&"_"&COUNTIF($C$29:C39,C39)) | S39: e
B40: =IF(C40="","",_xlfn.XLOOKUP(C40,経費NO.!$C$2:$C$17,経費NO.!$B$2:$B$17)&"_"&COUNTIF($C$29:C40,C40)) | S40: e
... B48: =IF(C48="","",_xlfn.XLOOKUP(C48,経費NO.!$C$2:$C$17,経費NO.!$B$2:$B$17)&"_"&COUNTIF($C$29:C48,C48)) | S48: e
B49: ※本経費区分について、20個以上の経費申請を希望する場合には、事務局へ問い合わせください。 | S49: e
S50: e
A51: e | B51: e | C51: e | D51: e | E51: e | F51: e | G51: e | H51: e | I51: e | J51: e | K51: e | L51: e | M51: e | N51: e | O51: e | P51: e | Q51: e | R51: e | S51: e

Sheet 【自動反映】様式第1.交付申請書
A1: （様式第1）
L2: =【申請者入力】様式第1.交付申請書!H17 -> 0 | N2: 年 | O2: =【申請者入力】様式第1.交付申請書!H18 -> 0 | P2: 月 | Q2: =【申請者入力】様式第1.交付申請書!H19 -> 0 | R2: 日
B3: 事業承継・Ｍ＆Ａ補助金事務局 御中
M4: 交付申請番号： | N4: =【申請者入力】様式第1.交付申請書!H32 -> 0
B5: 凡例 | C5: 自動 表示 | M5: 補助事業者名： | N5: =【申請者入力】様式第1.交付申請書!H33 -> 0
M6: 共同申請者名： | N6: =【申請者入力】様式第1.交付申請書!H34 -> 0
B8: 中小企業生産性革命推進事業 事業承継・Ｍ＆Ａ補助金（事業承継促進枠）交付申請書
B10: 事業承継・Ｍ＆Ａ補助金交付規程（以下「交付規程」という。）第 5 条第１項の規定に基づき、上記補助金の交付について下記のとおり申請します。 なお、補助金等に係る予算の執行の適正化に関する法律（昭和３０年法律第１７９号）、補助金等に係る予算の執行の適正化に関する法律施行令（昭和３０年政令第２５５号）、中小企業生産性革命推進事業補助金交付要綱及び交付規程の定めるところに従うことを承知の上、申請します。
J16: 記
B17: １． | C17: 補助事業の目的及び内容
C18: =【申請者入力】様式第1.交付申請書!H38 -> 0
U21: ⅰ.補助事業期間中に変更できない申請内容に、変更が生じた
U22: ⅱ.補助事業期間中に補助事業の遂行が困難になった
U23: ⅲ.『補助金交付決定通知書（様式第1）』を受領したが補助金交付を辞退する
B26: 2． | C26: 補助事業の開始及び完了予定日
C27: 2.1 補助事業の開始予定日 | K27: 2.2 補助事業の完了予定日 | U27: 補助事業者の変更
C28: =【申請者入力】様式第1.交付申請書!H39 -> 0 | E28: 年 | F28: =【申請者入力】様式第1.交付申請書!H40 -> 0 | G28: 月 | H28: =【申請者入力】様式第1.交付申請書!H41 -> 0 | I28: 日 | J28: ~ | K28: =【申請者入力】様式第1.交付申請書!H42 -> 0 | M28: 年 | N28: =【申請者入力】様式第1.交付申請書!H43 -> 0 | O28: 月 | P28: =【申請者入力】様式第1.交付申請書!H44 -> 0 | Q28: 日 | U28: 支援類型の変更
U29: 補助事業期間の変更
B30: 3． | C30: 補助事業実施場所に係る住所 | U30: 引継ぎ形態の変更
C31: 3.1 住所① | E31: =【申請者入力】様式第1.交付申請書!H45 -> 0 | U31: 共同申請者の変更
C32: 3.2 住所② | E32: =【申請者入力】様式第1.交付申請書!H46 -> 0 | U32: 補助対象経費の変更
C33: 3.3 住所③ | E33: =【申請者入力】様式第1.交付申請書!H47 -> 0
C34: 3.4 住所④ | E34: =【申請者入力】様式第1.交付申請書!H48 -> 0
B36: 4． | C36: 補助事業に要する経費（税抜き、単位：円）
C37: =【申請者入力】様式第1.交付申請書!H55 -> 0
B39: 5． | C39: 補助対象経費（税抜き、単位：円）
C40: =【申請者入力】様式第1.交付申請書!H56 -> 0
B42: 6． | C42: 補助金交付申請額（税抜き、単位：円）
C43: =【申請者入力】様式第1.交付申請書!H57 -> 0
B45: 7． | C45: 補助事業に要する経費、補助対象経費及び補助金の配分額
C46: 本ファイルの費目別明細書のとおり
B48: 8． | C48: 同上の金額の算出基礎
C49: 本ファイルの費目別明細書のとおり

Sheet 【自動反映】経費明細表
M1: e
C2: 経費明細表 | M2: e | O2: パターン名 | P2: 分岐① | Q2: 分岐② | R2: 補助率と上限額 | T2: 交付申請額
H3: 0.66666667 | I3: 10000000 | M3: e | R3: 上限額 | S3: 補助率
D4: 1.補助率及び補助上限額 | H4: 0.5 | I4: 8000000 | M4: e | O4: A | P4: ①小規模事業者支援法上の小規模事業者等に該当する | Q4: ①賃上げを実施する | R4: 10000000 | S4: ～800百万：2/3,800万～1,000万：1/2 | T4: =MIN(P10,12000000)*2/3 + MAX(P10-12000000,0)*1/2 -> 0
D5: 項目 | G5: 数値 | H5: ～800百万：2/3,800万～1,000万：1/2 | M5: e | O5: B | P5: ①小規模事業者支援法上の小規模事業者等に該当する | Q5: ②賃上げを実施しない | R5: 8000000 | S5: 0.66666667 | T5: =$P$10*S5 -> 0
D6: 【申告内容】小規模事業者の該当有無 | G6: =【申請者入力】様式第1.交付申請書!H23 -> 0 | M6: e | O6: C | P6: ②小規模事業者支援法上の小規模事業者等に該当しない | Q6: ①賃上げを実施する | R6: 10000000 | S6: 0.5 | T6: =$P$10*S6 -> 0
D7: 【申告内容】賃上げの実施有無 | G7: =【申請者入力】様式第1.交付申請書!H24 -> 0 | M7: e | O7: D | P7: ②小規模事業者支援法上の小規模事業者等に該当しない | Q7: ②賃上げを実施しない | R7: 8000000 | S7: 0.5 | T7: =$P$10*S7 -> 0
D8: 【補助率】 | G8: {=_xlfn.IFS(AND(G6=P4,G7=Q4),S4,AND(G6=P5,G7=Q5),S5,AND(G6=P6,G7=Q6),S6,AND(G6=P7,G7=Q7),S7,TRUE,"0")} -> 0 | M8: e
D9: 【補助上限額】 | G9: {=_xlfn.IFS(AND(G6=P4,G7=Q4),R4,AND(G6=P5,G7=Q5),R5,AND(G6=P6,G7=Q6),R6,AND(G6=P7,G7=Q7),R7,TRUE,"0")} -> 0 | M9: e | P9: 当該事業者の事業費合計額(委託費上限考慮) | Q9: 当該事業者のヒットパターン | R9: 当該事業者の事業費交付申請額
M10: e | P10: =SUM(H18,MIN(H19,SUM(H18:H23)/3),H20:H22,MIN(H23,SUM(H18:H23)/2)) -> 0 | Q10: {=_xlfn.IFS(AND(G6=P4,G7=Q4),O4,AND(G6=P5,G7=Q5),O5,AND(G6=P6,G7=Q6),O6,AND(G6=P7,G7=Q7),O7,TRUE,"0")} -> 0 | R10: =_xlfn.XLOOKUP(Q10,O4:O7,T4:T7,"エラー",0) -> エラー
D11: 2.公募申請_申請内容 | M11: e
D12: 項目 | G12: 金額 | M12: e | P12: 参考: 委託費の申請上限額 (事業費全体の1/2)
D13: 事業費の交付予定額（単位：円） | G13: =【申請者入力】様式第1.交付申請書!H26 -> 0 | M13: e | P13: =MIN(H23,SUM(H18:H23)/2) -> 0
D14: 廃業費の交付予定額（単位：円） | G14: =【申請者入力】様式第1.交付申請書!H28 -> 0 | M14: e
M15: e | P15: 参考: 産業財産権等関連経費の申請上限額 (事業費全体の1/3)
D16: 3.交付申請_申請内容概要 | M16: e | P16: =MIN(H19,SUM(H18:H23)/3) -> 0
D17: 経費区分 | G17: 補助事業に要する経費（税抜き） | H17: 補助対象経費（税抜き） | M17: e
D18: 設備費 | G18: =SUMIF(外注費[経費区分],D18,外注費[(本見積)補助事業に要する経費（税抜き）]) -> 0 | H18: =SUMIF(外注費[経費区分],D18,外注費[(本見積)補助対象経費 （税抜き）]) -> 0 | M18: e
D19: 産業財産権等関連経費 | G19: =SUMIF(外注費[経費区分],D19,外注費[(本見積)補助事業に要する経費（税抜き）]) -> 0 | H19: =SUMIF(外注費[経費区分],D19,外注費[(本見積)補助対象経費 （税抜き）]) -> 0 | M19: e
D20: 謝金 | G20: =SUMIF(謝金[経費区分],D20,謝金[(本見積)補助事業に要する経費（税抜き）]) -> 0 | H20: =SUMIF(謝金[経費区分],D20,謝金[(本見積)補助対象経費 （税抜き）]) -> 0 | M20: e
D21: 旅費 | G21: =SUMIF(旅費[経費区分],D21,旅費[(本見積)補助事業に要する経費（税抜き）]) -> 0 | H21: =SUMIF(旅費[経費区分],D21,旅費[(本見積)補助対象経費 （税抜き）]) -> 0 | M21: e
D22: 外注費 | G22: =SUMIF(外注費[経費区分],D22,外注費[(本見積)補助事業に要する経費（税抜き）]) -> 0 | H22: =SUMIF(外注費[経費区分],D22,外注費[(本見積)補助対象経費 （税抜き）]) -> 0 | M22: e
D23: 委託費 | G23: =SUMIF(外注費[経費区分],D23,外注費[(本見積)補助事業に要する経費（税抜き）]) -> 0 | H23: =SUMIF(外注費[経費区分],D23,外注費[(本見積)補助対象経費 （税抜き）]) -> 0 | M23: e
D24: 廃業支援費 | G24: =SUMIF(廃業費[経費区分],D24,廃業費[(本見積)補助事業に要する経費（税抜き）]) -> 0 | H24: =SUMIF(廃業費[経費区分],D24,廃業費[(本見積)補助対象経費 （税抜き）]) -> 0 | M24: e
D25: 在庫廃棄費 | G25: =SUMIF(廃業費[経費区分],D25,廃業費[(本見積)補助事業に要する経費（税抜き）]) -> 0 | H25: =SUMIF(廃業費[経費区分],D25,廃業費[(本見積)補助対象経費 （税抜き）]) -> 0 | M25: e
D26: 解体費 | G26: =SUMIF(廃業費[経費区分],D26,廃業費[(本見積)補助事業に要する経費（税抜き）]) -> 0 | H26: =SUMIF(廃業費[経費区分],D26,廃業費[(本見積)補助対象経費 （税抜き）]) -> 0 | M26: e
D27: 原状回復費 | G27: =SUMIF(廃業費[経費区分],D27,廃業費[(本見積)補助事業に要する経費（税抜き）]) -> 0 | H27: =SUMIF(廃業費[経費区分],D27,廃業費[(本見積)補助対象経費 （税抜き）]) -> 0 | M27: e
D28: リースの解約費 | G28: =SUMIF(廃業費[経費区分],D28,廃業費[(本見積)補助事業に要する経費（税抜き）]) -> 0 | H28: =SUMIF(廃業費[経費区分],D28,廃業費[(本見積)補助対象経費 （税抜き）]) -> 0 | M28: e
D29: 移転・移設費用 | G29: =SUMIF(廃業費[経費区分],D29,廃業費[(本見積)補助事業に要する経費（税抜き）]) -> 0 | H29: =SUMIF(廃業費[経費区分],D29,廃業費[(本見積)補助対象経費 （税抜き）]) -> 0 | M29: e
D30: 土壌汚染調査費 | G30: =SUMIF(廃業費[経費区分],D30,廃業費[(本見積)補助事業に要する経費（税抜き）]) -> 0 | H30: =SUMIF(廃業費[経費区分],D30,廃業費[(本見積)補助対象経費 （税抜き）]) -> 0 | M30: e
M31: e
H32: 6000000 | M32: e
D33: 4.交付申請_申請額 | H33: 2000000 | M33: e
D34: 項目 | G34: 金額 | H34: 上限1※公募要領上 | M34: e
D35: 〇Ⅰ.事業費に係る費用の合計 | M35: e
F36: 事業費の補助事業に要する経費（税抜き、単位：円） | G36: =SUM(G18:G23) -> 0 | H36: ー | M36: e
F37: 事業費の補助対象経費（税抜き、単位：円） | G37: =SUM(H18:H23) -> 0 | H37: ー | M37: e
F38: 事業費の補助金交付申請額（税抜き、単位：円） | G38: =INT(MIN(G13,R10,H38)) -> 0 | H38: =G9 -> 0 | M38: e
D39: 〇Ⅱ.廃業費に係る費用の合計 | M39: e
F40: 廃業費の補助事業に要する経費（税抜き、単位：円） | G40: =SUM(G24:G30) -> 0 | H40: ー | M40: e
...

Sheet 経費NO.
B2: 経費コード | C2: 経費区分
B3: A | C3: 設備費
B4: B | C4: 産業財産権等関連経費
B5: C | C5: 謝金
B6: D | C6: 旅費
B7: E | C7: 外注費
B8: F | C8: 委託費
B9: G | C9: 廃業支援費
B10: H | C10: 在庫廃棄費
B11: I | C11: 解体費
B12: J | C12: 原状回復費
B13: K | C13: リースの解約費
... B15: O | C15: 土壌汚染調査費
